BEGIN:VCALENDAR
VERSION:2.0
PRODID:-//MWRA - ECPv6.15.11//NONSGML v1.0//EN
CALSCALE:GREGORIAN
METHOD:PUBLISH
X-ORIGINAL-URL:https://www.mwraadvisoryboard.com
X-WR-CALDESC:Events for MWRA
REFRESH-INTERVAL;VALUE=DURATION:PT1H
X-Robots-Tag:noindex
X-PUBLISHED-TTL:PT1H
BEGIN:VTIMEZONE
TZID:America/New_York
BEGIN:DAYLIGHT
TZOFFSETFROM:-0500
TZOFFSETTO:-0400
TZNAME:EDT
DTSTART:20170312T070000
END:DAYLIGHT
BEGIN:STANDARD
TZOFFSETFROM:-0400
TZOFFSETTO:-0500
TZNAME:EST
DTSTART:20171105T060000
END:STANDARD
BEGIN:DAYLIGHT
TZOFFSETFROM:-0500
TZOFFSETTO:-0400
TZNAME:EDT
DTSTART:20180311T070000
END:DAYLIGHT
BEGIN:STANDARD
TZOFFSETFROM:-0400
TZOFFSETTO:-0500
TZNAME:EST
DTSTART:20181104T060000
END:STANDARD
BEGIN:DAYLIGHT
TZOFFSETFROM:-0500
TZOFFSETTO:-0400
TZNAME:EDT
DTSTART:20190310T070000
END:DAYLIGHT
BEGIN:STANDARD
TZOFFSETFROM:-0400
TZOFFSETTO:-0500
TZNAME:EST
DTSTART:20191103T060000
END:STANDARD
BEGIN:DAYLIGHT
TZOFFSETFROM:-0500
TZOFFSETTO:-0400
TZNAME:EDT
DTSTART:20200308T070000
END:DAYLIGHT
BEGIN:STANDARD
TZOFFSETFROM:-0400
TZOFFSETTO:-0500
TZNAME:EST
DTSTART:20201101T060000
END:STANDARD
BEGIN:DAYLIGHT
TZOFFSETFROM:-0500
TZOFFSETTO:-0400
TZNAME:EDT
DTSTART:20210314T070000
END:DAYLIGHT
BEGIN:STANDARD
TZOFFSETFROM:-0400
TZOFFSETTO:-0500
TZNAME:EST
DTSTART:20211107T060000
END:STANDARD
BEGIN:DAYLIGHT
TZOFFSETFROM:-0500
TZOFFSETTO:-0400
TZNAME:EDT
DTSTART:20220313T070000
END:DAYLIGHT
BEGIN:STANDARD
TZOFFSETFROM:-0400
TZOFFSETTO:-0500
TZNAME:EST
DTSTART:20221106T060000
END:STANDARD
BEGIN:DAYLIGHT
TZOFFSETFROM:-0500
TZOFFSETTO:-0400
TZNAME:EDT
DTSTART:20230312T070000
END:DAYLIGHT
BEGIN:STANDARD
TZOFFSETFROM:-0400
TZOFFSETTO:-0500
TZNAME:EST
DTSTART:20231105T060000
END:STANDARD
END:VTIMEZONE
BEGIN:VEVENT
DTSTART;TZID=America/New_York:20220909T100000
DTEND;TZID=America/New_York:20220909T120000
DTSTAMP:20260423T064551
CREATED:20220630T152636Z
LAST-MODIFIED:20220908T160651Z
UID:11951-1662717600-1662724800@www.mwraadvisoryboard.com
SUMMARY:September 2022 Executive Committee Meeting
DESCRIPTION:  \nSep 9\, 2022 10:00 AM Eastern Time (US and Canada) \nRegister in advance for this meeting:\nhttps://us06web.zoom.us/meeting/register/tZMkcO-hpzooGdGg45v8Lb_XTOMkP0eXAdDl \nAfter registering\, you will receive a confirmation email containing information about joining the meeting.
URL:https://www.mwraadvisoryboard.com/events/sep2022ecmeeting/
CATEGORIES:AB Executive Committee
END:VEVENT
BEGIN:VEVENT
DTSTART;TZID=America/New_York:20220610T100000
DTEND;TZID=America/New_York:20220610T113000
DTSTAMP:20260423T064551
CREATED:20210729T150030Z
LAST-MODIFIED:20220504T183800Z
UID:10882-1654855200-1654860600@www.mwraadvisoryboard.com
SUMMARY:June 2022 Executive Committee Meeting
DESCRIPTION:Jun 10\, 2022 10:00 AM Eastern Time (US and Canada) \nRegister in advance for this meeting:\nhttps://us06web.zoom.us/meeting/register/tZcpceCuqjspHdzFAxRUG1jDvzlSN1ECCRD1 \nAfter registering\, you will receive a confirmation email containing information about joining the meeting.
URL:https://www.mwraadvisoryboard.com/events/june2022ecmeeting/
CATEGORIES:AB Executive Committee
END:VEVENT
BEGIN:VEVENT
DTSTART;TZID=America/New_York:20220513T100000
DTEND;TZID=America/New_York:20220513T113000
DTSTAMP:20260423T064551
CREATED:20210729T145914Z
LAST-MODIFIED:20220421T130428Z
UID:10881-1652436000-1652441400@www.mwraadvisoryboard.com
SUMMARY:May 2022 Executive Committee Meeting
DESCRIPTION:  \n  \nWhen: May 13\, 2022 10:00 AM Eastern Time (US and Canada) \nRegister in advance for this meeting:\nhttps://us06web.zoom.us/meeting/register/tZUlfu-vqj0jG9RTqAC1OKilRuzzAP35qM-6 \nAfter registering\, you will receive a confirmation email containing information about joining the meeting.
URL:https://www.mwraadvisoryboard.com/events/may2022ecmeeting/
CATEGORIES:AB Executive Committee
END:VEVENT
BEGIN:VEVENT
DTSTART;TZID=America/New_York:20220415T100000
DTEND;TZID=America/New_York:20220415T113000
DTSTAMP:20260423T064551
CREATED:20210729T145657Z
LAST-MODIFIED:20220408T144625Z
UID:10880-1650016800-1650022200@www.mwraadvisoryboard.com
SUMMARY:April 2022 Executive Committee Meeting
DESCRIPTION:Apr 15\, 2022 10:00 AM Eastern Time (US and Canada) \nRegister in advance for this meeting:\nhttps://us06web.zoom.us/meeting/register/tZ0qd–sqDkvHNPHHc9x7h8XYh-C9W1cMETq \nAfter registering\, you will receive a confirmation email containing information about joining the meeting.
URL:https://www.mwraadvisoryboard.com/events/apr2022ecmeeting/
CATEGORIES:AB Executive Committee
END:VEVENT
BEGIN:VEVENT
DTSTART;TZID=America/New_York:20220311T100000
DTEND;TZID=America/New_York:20220311T113000
DTSTAMP:20260423T064551
CREATED:20210729T145548Z
LAST-MODIFIED:20220302T122855Z
UID:10879-1646992800-1646998200@www.mwraadvisoryboard.com
SUMMARY:March 2022 Executive Committee Meeting
DESCRIPTION:  \nRegister in advance for this meeting:\nhttps://us06web.zoom.us/meeting/register/tZIldOqprTgqGN2vjXOAG0B62QIiqXna9ar1 \nAfter registering\, you will receive a confirmation email containing information about joining the meeting.
URL:https://www.mwraadvisoryboard.com/events/mar2022ecmeeting/
CATEGORIES:AB Executive Committee
END:VEVENT
BEGIN:VEVENT
DTSTART;TZID=America/New_York:20220211T100000
DTEND;TZID=America/New_York:20220211T113000
DTSTAMP:20260423T064551
CREATED:20210729T145455Z
LAST-MODIFIED:20220208T010103Z
UID:10878-1644573600-1644579000@www.mwraadvisoryboard.com
SUMMARY:February 2022 Executive Committee Meeting
DESCRIPTION:MWRA Advisory Board is inviting you to a scheduled Zoom meeting. \nTopic: Executive Committee Meeting\nTime: Feb 11\, 2022 10:00 AM Eastern Time (US and Canada) \nJoin Zoom Meeting\nhttps://us06web.zoom.us/j/81657225677?pwd=SDR1OWxzY2NnZDB2bUFGcXk5OUVJdz09 \nMeeting ID: 816 5722 5677\nPasscode: 869998\nOne tap mobile\n+13126266799\,\,81657225677#\,\,\,\,*869998# US (Chicago)\n+16465588656\,\,81657225677#\,\,\,\,*869998# US (New York) \nDial by your location\n+1 312 626 6799 US (Chicago)\n+1 646 558 8656 US (New York)\nMeeting ID: 816 5722 5677\nPasscode: 869998\nFind your local number: https://us06web.zoom.us/u/keqZwRs0AW
URL:https://www.mwraadvisoryboard.com/events/feb2022ecmeeting/
CATEGORIES:AB Executive Committee
END:VEVENT
BEGIN:VEVENT
DTSTART;TZID=America/New_York:20220114T100000
DTEND;TZID=America/New_York:20220114T113000
DTSTAMP:20260423T064551
CREATED:20230615T160508Z
LAST-MODIFIED:20230615T160508Z
UID:12738-1642154400-1642159800@www.mwraadvisoryboard.com
SUMMARY:January 2022 Executive Committee Meeting Copy
DESCRIPTION:Zoom Meeting Link:\nhttps://us06web.zoom.us/j/89226420354?pwd=R3FLeUd5a0R4eFNnZnlKLzRhUHpvUT09 \nMeeting ID: 892 2642 0354\nPasscode: 601113 \nOne tap mobile\n+13017158592\,\,89226420354#\,\,\,\,*601113# US (Washington DC)\n+13126266799\,\,89226420354#\,\,\,\,*601113# US (Chicago) \nDial by your location\nMeeting ID: 892 2642 0354\nPasscode: 601113\nFind your local number: https://us06web.zoom.us/u/kdYbjIP46v
URL:https://www.mwraadvisoryboard.com/events/jan2022ecmeeting-copy/
CATEGORIES:AB Executive Committee
END:VEVENT
BEGIN:VEVENT
DTSTART;TZID=America/New_York:20220114T100000
DTEND;TZID=America/New_York:20220114T113000
DTSTAMP:20260423T064551
CREATED:20210729T145347Z
LAST-MODIFIED:20220111T200031Z
UID:10877-1642154400-1642159800@www.mwraadvisoryboard.com
SUMMARY:January 2022 Executive Committee Meeting
DESCRIPTION:Zoom Meeting Link:\nhttps://us06web.zoom.us/j/89226420354?pwd=R3FLeUd5a0R4eFNnZnlKLzRhUHpvUT09 \nMeeting ID: 892 2642 0354\nPasscode: 601113 \nOne tap mobile\n+13017158592\,\,89226420354#\,\,\,\,*601113# US (Washington DC)\n+13126266799\,\,89226420354#\,\,\,\,*601113# US (Chicago) \nDial by your location\nMeeting ID: 892 2642 0354\nPasscode: 601113\nFind your local number: https://us06web.zoom.us/u/kdYbjIP46v
URL:https://www.mwraadvisoryboard.com/events/jan2022ecmeeting/
CATEGORIES:AB Executive Committee
END:VEVENT
BEGIN:VEVENT
DTSTART;TZID=America/New_York:20211112T100000
DTEND;TZID=America/New_York:20211112T113000
DTSTAMP:20260423T064551
CREATED:20210729T145205Z
LAST-MODIFIED:20211109T182751Z
UID:10876-1636711200-1636716600@www.mwraadvisoryboard.com
SUMMARY:November 2021 Executive Committee Meeting
DESCRIPTION:  \nTopic: November 2021 Executive Committee Meeting\nTime: Nov 12\, 2021 10:00 AM Eastern Time (US and Canada) \nJoin Zoom Meeting\nhttps://us06web.zoom.us/j/88954726297?pwd=Ky9VeEpwYnhqekd2d3pNYTU4ZUlvUT09 \nMeeting ID: 889 5472 6297\nPasscode: 830986\nOne tap mobile\n+16465588656\,\,88954726297#\,\,\,\,*830986# US (New York)\n+13017158592\,\,88954726297#\,\,\,\,*830986# US (Washington DC) \nDial by your location\n+1 646 558 8656 US (New York)\n+1 301 715 8592 US (Washington DC)\n+1 312 626 6799 US (Chicago)\n+1 720 707 2699 US (Denver)\n+1 253 215 8782 US (Tacoma)\n+1 346 248 7799 US (Houston)\nMeeting ID: 889 5472 6297\nPasscode: 830986\nFind your local number: https://us06web.zoom.us/u/kmhyyhQdw
URL:https://www.mwraadvisoryboard.com/events/nov2021ecmeeting/
CATEGORIES:AB Executive Committee
END:VEVENT
BEGIN:VEVENT
DTSTART;TZID=America/New_York:20210910T100000
DTEND;TZID=America/New_York:20210910T113000
DTSTAMP:20260423T064551
CREATED:20210729T145023Z
LAST-MODIFIED:20210729T145023Z
UID:10875-1631268000-1631273400@www.mwraadvisoryboard.com
SUMMARY:September 2021 Executive Committee Meeting
DESCRIPTION:  \n  \nTopic: September 2021 Executive Committee Meeting\nTime: Sep 10\, 2021 10:00 AM Eastern Time (US and Canada) \nJoin Zoom Meeting\nhttps://us06web.zoom.us/j/88320018497?pwd=c0pySjlHalJtVDFRR3ZBMjJjVVNzZz09 \nMeeting ID: 883 2001 8497\nPasscode: 146429\nOne tap mobile\n+13126266799\,\,88320018497#\,\,\,\,*146429# US (Chicago)\n+16465588656\,\,88320018497#\,\,\,\,*146429# US (New York) \nDial by your location\n+1 312 626 6799 US (Chicago)\n+1 646 558 8656 US (New York)\n+1 301 715 8592 US (Washington DC)\n+1 346 248 7799 US (Houston)\n+1 720 707 2699 US (Denver)\n+1 253 215 8782 US (Tacoma)\nMeeting ID: 883 2001 8497\nPasscode: 146429\nFind your local number: https://us06web.zoom.us/u/kcCU7NRkVt
URL:https://www.mwraadvisoryboard.com/events/sep2021ecmeeting/
CATEGORIES:AB Executive Committee
END:VEVENT
BEGIN:VEVENT
DTSTART;TZID=America/New_York:20210611T100000
DTEND;TZID=America/New_York:20210611T233000
DTSTAMP:20260423T064551
CREATED:20210604T135302Z
LAST-MODIFIED:20210604T135302Z
UID:10864-1623405600-1623454200@www.mwraadvisoryboard.com
SUMMARY:June 2021 Executive Committee Meeting
DESCRIPTION:Meeting Materials:\n\n\nMeeting Packet\n\n\nJune 2021 Executive Committee Meeting\nTime: May 14\, 2021 10:00 AM Eastern Time (US and Canada) \nJoin Zoom Meeting\nhttps://zoom.us/j/92073609873?pwd=Si95QzZkV3kvbzFnT0ZFTVk2MnFFQT09 \nMeeting ID: 920 7360 9873\nPasscode: 977636\nOne tap mobile\n+13017158592\,\,92073609873#\,\,\,\,*977636# US (Washington DC)\n+13126266799\,\,92073609873#\,\,\,\,*977636# US (Chicago) \nDial by your location\n+1 301 715 8592 US (Washington DC)\n+1 312 626 6799 US (Chicago)\n+1 646 558 8656 US (New York)\n+1 253 215 8782 US (Tacoma)\n+1 346 248 7799 US (Houston)\n+1 669 900 9128 US (San Jose)\nMeeting ID: 920 7360 9873\nPasscode: 977636\nFind your local number: https://zoom.us/u/ahyn0caws \n  \n  \n 
URL:https://www.mwraadvisoryboard.com/events/may2021ecmeeting-2/
CATEGORIES:AB Executive Committee
END:VEVENT
BEGIN:VEVENT
DTSTART;TZID=America/New_York:20210514T100000
DTEND;TZID=America/New_York:20210514T233000
DTSTAMP:20260423T064551
CREATED:20210504T161803Z
LAST-MODIFIED:20210504T161803Z
UID:10862-1620986400-1621035000@www.mwraadvisoryboard.com
SUMMARY:May 2021 Executive Committee Meeting
DESCRIPTION:Meeting Materials:\n\n\nMeeting Packet\n\n\nMay 2021 Executive Committee Meeting\nTime: May 14\, 2021 10:00 AM Eastern Time (US and Canada) \nJoin Zoom Meeting\nhttps://zoom.us/j/91057044908?pwd=ckJ0cEhsTmkzRlRvbXVsTngvRDc3dz09 \nMeeting ID: 910 5704 4908\nPasscode: 270921\nOne tap mobile\n+13126266799\,\,91057044908#\,\,\,\,*270921# US (Chicago)\n+16465588656\,\,91057044908#\,\,\,\,*270921# US (New York) \nDial by your location\n+1 312 626 6799 US (Chicago)\n+1 646 558 8656 US (New York)\n+1 301 715 8592 US (Washington DC)\n+1 346 248 7799 US (Houston)\n+1 669 900 9128 US (San Jose)\n+1 253 215 8782 US (Tacoma)\nMeeting ID: 910 5704 4908\nPasscode: 270921\nFind your local number: https://zoom.us/u/abva9sDiE \n  \n 
URL:https://www.mwraadvisoryboard.com/events/may2021ecmeeting/
CATEGORIES:AB Executive Committee
END:VEVENT
BEGIN:VEVENT
DTSTART;TZID=America/New_York:20210409T100000
DTEND;TZID=America/New_York:20210409T233000
DTSTAMP:20260423T064551
CREATED:20210401T142213Z
LAST-MODIFIED:20210401T142213Z
UID:10860-1617962400-1618011000@www.mwraadvisoryboard.com
SUMMARY:April 2021 Executive Committee Meeting
DESCRIPTION:  \n  \nYou can join the meeting from your computer\, tablet or smartphone.\n \nhttps://global.gotomeeting.com/join/688267101  \nYou can also dial in using your phone.\nUnited States: +1 (872) 240-3212\nAccess Code: 688-267-101 \nYou can use the following phone commands during the meeting: \n\n*2 – get the number of attendees currently dialed in via phone\n*3 – turn ‘on-hold’ beeps on or off\n*4 – play menu of features\n*6 – mute/unmute yourself\n\n 
URL:https://www.mwraadvisoryboard.com/events/april2021ec/
LOCATION:FY 25 Current Expense Budget (CEB) Dashboard
CATEGORIES:AB Executive Committee
END:VEVENT
BEGIN:VEVENT
DTSTART;TZID=America/New_York:20210312T100000
DTEND;TZID=America/New_York:20210312T100000
DTSTAMP:20260423T064551
CREATED:20210305T150731Z
LAST-MODIFIED:20210305T150731Z
UID:10858-1615543200-1615543200@www.mwraadvisoryboard.com
SUMMARY:March Executive Committee Meeting
DESCRIPTION:Executive Committee\nFri\, Mar 12\, 2021 10:00 AM – 11:30 AM (EST) \n You can join this meeting from your computer\, tablet or smartphone. \n https://global.gotomeeting.com/join/489426957  \nYou can also dial in using your phone.\nUnited States: +1 (786) 535-3211 \nAccess Code: 489-426-957 \nNew to GoToMeeting? Get the app now and be ready when your first meeting starts: https://global.gotomeeting.com/install/489426957 \n  \nMeeting Materials:\nMeeting Packet\n 
URL:https://www.mwraadvisoryboard.com/events/march21-executive-committee-meeting/
CATEGORIES:AB Executive Committee
END:VEVENT
BEGIN:VEVENT
DTSTART;TZID=America/New_York:20200617T100000
DTEND;TZID=America/New_York:20200617T113000
DTSTAMP:20260423T064551
CREATED:20200612T162827Z
LAST-MODIFIED:20200612T162827Z
UID:10846-1592388000-1592393400@www.mwraadvisoryboard.com
SUMMARY:Executive Committee Special Session (Online Remote Meeting)
DESCRIPTION:Executive Committee Special Session\nWed\, Jun 17\, 2020 10:00 AM – 11:30 AM (EDT) \nPlease join my meeting from your computer\, tablet or smartphone. \nhttps://global.gotomeeting.com/join/379392997  \nYou can also dial in using your phone. \nUnited States: +1 (872) 240-3212 \nAccess Code: 379-392-997 \nNew to GoToMeeting? Get the app now and be ready when your first meeting starts:\nhttps://global.gotomeeting.com/install/379392997
URL:https://www.mwraadvisoryboard.com/events/executive-committee-22-2-2-2-2-2-2-2-2/
LOCATION:Dashboards
CATEGORIES:AB Executive Committee
END:VEVENT
BEGIN:VEVENT
DTSTART;TZID=America/New_York:20200612T100000
DTEND;TZID=America/New_York:20200612T113000
DTSTAMP:20260423T064551
CREATED:20190924T125117Z
LAST-MODIFIED:20190924T125117Z
UID:10829-1591956000-1591961400@www.mwraadvisoryboard.com
SUMMARY:Executive Committee (Online Remote Meeting)
DESCRIPTION:Please join my meeting from your computer\, tablet or smartphone. \nhttps://global.gotomeeting.com/join/724770613 \nYou can also dial in using your phone. \nUnited States: +1 (646) 749-3122 \nAccess Code: 724-770-613 \nNew to GoToMeeting? Get the app now and be ready when your first meeting starts:\nhttps://global.gotomeeting.com/install/724770613
URL:https://www.mwraadvisoryboard.com/events/executive-committee-22-2-2-2-2-2-2-2/
LOCATION:Dashboards
CATEGORIES:AB Executive Committee
END:VEVENT
BEGIN:VEVENT
DTSTART;TZID=America/New_York:20200430T100000
DTEND;TZID=America/New_York:20200430T113000
DTSTAMP:20260423T064551
CREATED:20190924T125045Z
LAST-MODIFIED:20190924T125045Z
UID:10828-1588240800-1588246200@www.mwraadvisoryboard.com
SUMMARY:Executive Committee (Online Remote Meeting)
DESCRIPTION:Executive Committee Meeting\nThu\, Apr 30\, 2020 10:00 AM \nPlease join the meeting from your computer\, tablet or smartphone. \nhttps://global.gotomeeting.com/join/438271797  \nYou can also dial in using your phone. \nUnited States: +1 (571) 317-3112 \nAccess Code: 438-271-797 \nNew to GoToMeeting? Get the app now and be ready when your first meeting starts:\nhttps://global.gotomeeting.com/install/438271797
URL:https://www.mwraadvisoryboard.com/events/executive-committee-22-2-2-2-2-2-2/
LOCATION:FY 25 Current Expense Budget (CEB) Dashboard
CATEGORIES:AB Executive Committee
END:VEVENT
BEGIN:VEVENT
DTSTART;TZID=America/New_York:20200410T100000
DTEND;TZID=America/New_York:20200410T113000
DTSTAMP:20260423T064551
CREATED:20190924T124942Z
LAST-MODIFIED:20190924T124942Z
UID:10827-1586512800-1586518200@www.mwraadvisoryboard.com
SUMMARY:Executive Committee (Remote Access)
DESCRIPTION:You can access the Advisory Board Executive Committee meeting from your computer\, tablet or smartphone using this link: https://global.gotomeeting.com/join/759765069. Please allow sufficient time to test your audio and visual connections. New to GoToMeeting? Get the app now and be ready when your first meeting starts:\nhttps://global.gotomeeting.com/install/759765069 \nYou can also dial in using a phone (audio access only):\nUnited States: +1 (669) 224-3412 with access code: 759-765-069
URL:https://www.mwraadvisoryboard.com/events/excom410/
LOCATION:FY 25 Current Expense Budget (CEB) Dashboard
CATEGORIES:AB Executive Committee
END:VEVENT
BEGIN:VEVENT
DTSTART;TZID=America/New_York:20200214T100000
DTEND;TZID=America/New_York:20200214T113000
DTSTAMP:20260423T064551
CREATED:20190924T124747Z
LAST-MODIFIED:20190924T124747Z
UID:10825-1581674400-1581679800@www.mwraadvisoryboard.com
SUMMARY:Executive Committee
DESCRIPTION:
URL:https://www.mwraadvisoryboard.com/events/executive-committee-22-2-2-2/
LOCATION:Braintree-1
CATEGORIES:AB Executive Committee
END:VEVENT
BEGIN:VEVENT
DTSTART;TZID=America/New_York:20200110T100000
DTEND;TZID=America/New_York:20200110T113000
DTSTAMP:20260423T064551
CREATED:20190924T124654Z
LAST-MODIFIED:20190924T124654Z
UID:10824-1578650400-1578655800@www.mwraadvisoryboard.com
SUMMARY:Executive Committee
DESCRIPTION:
URL:https://www.mwraadvisoryboard.com/events/executive-committee-22-2-2/
LOCATION:Braintree-1
CATEGORIES:AB Executive Committee
END:VEVENT
BEGIN:VEVENT
DTSTART;TZID=America/New_York:20191213T100000
DTEND;TZID=America/New_York:20191213T120000
DTSTAMP:20260423T064551
CREATED:20191203T170902Z
LAST-MODIFIED:20191203T170902Z
UID:10842-1576231200-1576238400@www.mwraadvisoryboard.com
SUMMARY:Special Executive Committee Meeting
DESCRIPTION:Spaghetti Session
URL:https://www.mwraadvisoryboard.com/events/special-executive-committee-meeting/
LOCATION:1991-1995
CATEGORIES:AB Executive Committee
END:VEVENT
BEGIN:VEVENT
DTSTART;TZID=America/New_York:20191115T100000
DTEND;TZID=America/New_York:20191115T113000
DTSTAMP:20260423T064551
CREATED:20190910T200623Z
LAST-MODIFIED:20190910T200623Z
UID:10821-1573812000-1573817400@www.mwraadvisoryboard.com
SUMMARY:Executive Committee
DESCRIPTION:
URL:https://www.mwraadvisoryboard.com/events/executive-committee-23/
LOCATION:Braintree-1
CATEGORIES:AB Executive Committee
END:VEVENT
BEGIN:VEVENT
DTSTART;TZID=America/New_York:20191011T100000
DTEND;TZID=America/New_York:20191011T113000
DTSTAMP:20260423T064551
CREATED:20191002T133032Z
LAST-MODIFIED:20191002T133032Z
UID:10840-1570788000-1570793400@www.mwraadvisoryboard.com
SUMMARY:Executive Committee
DESCRIPTION:
URL:https://www.mwraadvisoryboard.com/events/executive-committee-22-2/
LOCATION:Braintree-1
CATEGORIES:AB Executive Committee
END:VEVENT
BEGIN:VEVENT
DTSTART;TZID=America/New_York:20190913T100000
DTEND;TZID=America/New_York:20190913T113000
DTSTAMP:20260423T064551
CREATED:20190829T140311Z
LAST-MODIFIED:20190829T140311Z
UID:10819-1568368800-1568374200@www.mwraadvisoryboard.com
SUMMARY:Executive Committee
DESCRIPTION:
URL:https://www.mwraadvisoryboard.com/events/executive-committee-22/
LOCATION:Braintree-1
CATEGORIES:AB Executive Committee
END:VEVENT
BEGIN:VEVENT
DTSTART;TZID=America/New_York:20181207T083000
DTEND;TZID=America/New_York:20181207T100000
DTSTAMP:20260423T064551
CREATED:20181130T193221Z
LAST-MODIFIED:20181130T193221Z
UID:10798-1544171400-1544176800@www.mwraadvisoryboard.com
SUMMARY:Executive Committee - Spaghetti Session
DESCRIPTION:
URL:https://www.mwraadvisoryboard.com/events/executive-committee-spaghetti-session/
LOCATION:Braintree-1
CATEGORIES:AB Executive Committee
END:VEVENT
BEGIN:VEVENT
DTSTART;TZID=America/New_York:20181019T090000
DTEND;TZID=America/New_York:20181019T110000
DTSTAMP:20260423T064551
CREATED:20180926T184636Z
LAST-MODIFIED:20180926T184636Z
UID:10796-1539939600-1539946800@www.mwraadvisoryboard.com
SUMMARY:Finance Summit
DESCRIPTION:Special Executive Committee meeting for October. All Advisory Board members welcome. Please contact AB staff if you plan to attend. Thank you! \nMWRA Financial Overview \nFinal FY19 Debt Service \nMunicipal Market Update \nOther resources: \n\nMWRA’s most recent Official Statement\nS&P Global Ratings Report\nFitch Ratings Report\nMoody’s Ratings Report
URL:https://www.mwraadvisoryboard.com/events/finance-summit/
LOCATION:Braintree-1
CATEGORIES:AB Executive Committee
END:VEVENT
BEGIN:VEVENT
DTSTART;TZID=America/New_York:20180914T083000
DTEND;TZID=America/New_York:20180914T100000
DTSTAMP:20260423T064551
CREATED:20180612T112250Z
LAST-MODIFIED:20180612T112250Z
UID:10775-1536913800-1536919200@www.mwraadvisoryboard.com
SUMMARY:Executive Committee
DESCRIPTION:
URL:https://www.mwraadvisoryboard.com/events/executive-committe/
LOCATION:Braintree-1
CATEGORIES:AB Executive Committee
END:VEVENT
END:VCALENDAR