BEGIN:VCALENDAR
VERSION:2.0
PRODID:-//MWRA - ECPv6.15.11//NONSGML v1.0//EN
CALSCALE:GREGORIAN
METHOD:PUBLISH
X-ORIGINAL-URL:https://www.mwraadvisoryboard.com
X-WR-CALDESC:Events for MWRA
REFRESH-INTERVAL;VALUE=DURATION:PT1H
X-Robots-Tag:noindex
X-PUBLISHED-TTL:PT1H
BEGIN:VTIMEZONE
TZID:America/New_York
BEGIN:DAYLIGHT
TZOFFSETFROM:-0500
TZOFFSETTO:-0400
TZNAME:EDT
DTSTART:20220313T070000
END:DAYLIGHT
BEGIN:STANDARD
TZOFFSETFROM:-0400
TZOFFSETTO:-0500
TZNAME:EST
DTSTART:20221106T060000
END:STANDARD
BEGIN:DAYLIGHT
TZOFFSETFROM:-0500
TZOFFSETTO:-0400
TZNAME:EDT
DTSTART:20230312T070000
END:DAYLIGHT
BEGIN:STANDARD
TZOFFSETFROM:-0400
TZOFFSETTO:-0500
TZNAME:EST
DTSTART:20231105T060000
END:STANDARD
BEGIN:DAYLIGHT
TZOFFSETFROM:-0500
TZOFFSETTO:-0400
TZNAME:EDT
DTSTART:20240310T070000
END:DAYLIGHT
BEGIN:STANDARD
TZOFFSETFROM:-0400
TZOFFSETTO:-0500
TZNAME:EST
DTSTART:20241103T060000
END:STANDARD
BEGIN:DAYLIGHT
TZOFFSETFROM:-0500
TZOFFSETTO:-0400
TZNAME:EDT
DTSTART:20250309T070000
END:DAYLIGHT
BEGIN:STANDARD
TZOFFSETFROM:-0400
TZOFFSETTO:-0500
TZNAME:EST
DTSTART:20251102T060000
END:STANDARD
BEGIN:DAYLIGHT
TZOFFSETFROM:-0500
TZOFFSETTO:-0400
TZNAME:EDT
DTSTART:20260308T070000
END:DAYLIGHT
BEGIN:STANDARD
TZOFFSETFROM:-0400
TZOFFSETTO:-0500
TZNAME:EST
DTSTART:20261101T060000
END:STANDARD
BEGIN:DAYLIGHT
TZOFFSETFROM:-0500
TZOFFSETTO:-0400
TZNAME:EDT
DTSTART:20270314T070000
END:DAYLIGHT
BEGIN:STANDARD
TZOFFSETFROM:-0400
TZOFFSETTO:-0500
TZNAME:EST
DTSTART:20271107T060000
END:STANDARD
END:VTIMEZONE
BEGIN:VEVENT
DTSTART;TZID=America/New_York:20260416T100000
DTEND;TZID=America/New_York:20260416T113000
DTSTAMP:20260419T160125
CREATED:20250528T124121Z
LAST-MODIFIED:20260409T183420Z
UID:15706-1776333600-1776339000@www.mwraadvisoryboard.com
SUMMARY:April 2026 Advisory Board meeting
DESCRIPTION:Registration is required via Zoom. \nRegister Here
URL:https://www.mwraadvisoryboard.com/events/april-2026-advisory-board-meeting/
CATEGORIES:Advisory Board
END:VEVENT
BEGIN:VEVENT
DTSTART;TZID=America/New_York:20260319T100000
DTEND;TZID=America/New_York:20260319T113000
DTSTAMP:20260419T160125
CREATED:20250528T124030Z
LAST-MODIFIED:20260320T183555Z
UID:15704-1773914400-1773919800@www.mwraadvisoryboard.com
SUMMARY:March 2026 Advisory Board meeting
DESCRIPTION:Registration via Zoom is required. Please use the button below. \nRegister Here
URL:https://www.mwraadvisoryboard.com/events/march-2026-advisory-board-meeting/
CATEGORIES:Advisory Board
END:VEVENT
BEGIN:VEVENT
DTSTART;TZID=America/New_York:20260226T100000
DTEND;TZID=America/New_York:20260226T120000
DTSTAMP:20260419T160125
CREATED:20250528T123925Z
LAST-MODIFIED:20260223T175239Z
UID:15702-1772100000-1772107200@www.mwraadvisoryboard.com
SUMMARY:February 2026 Advisory Board Meeting & Public Hearing
DESCRIPTION:This event will be held as a Zoom webinar. Registration is required to attend the meeting. \nRegister for webinar here \nMembers of the public who wish to provide verbal public comment during the hearing (up to two minutes per speaker) and/or to submit written public comment for the record must register separately using the public comment sign-up page. \nPlease note that registering for the Zoom webinar does not register you for public comment. Individuals who wish to speak during the hearing must complete both registrations. \nPublic Comment sign up here
URL:https://www.mwraadvisoryboard.com/events/february-2026-advisory-board/
CATEGORIES:Advisory Board
END:VEVENT
BEGIN:VEVENT
DTSTART;TZID=America/New_York:20260115T100000
DTEND;TZID=America/New_York:20260115T113000
DTSTAMP:20260419T160125
CREATED:20250528T123757Z
LAST-MODIFIED:20251222T134942Z
UID:15700-1768471200-1768476600@www.mwraadvisoryboard.com
SUMMARY:January 2026 Advisory Board meeting
DESCRIPTION:Registration via Zoom is required. Please use the button below. \nRegister here
URL:https://www.mwraadvisoryboard.com/events/january-2026-advisory-board-meeting/
CATEGORIES:Advisory Board
END:VEVENT
BEGIN:VEVENT
DTSTART;TZID=America/New_York:20251120T100000
DTEND;TZID=America/New_York:20251120T113000
DTSTAMP:20260419T160125
CREATED:20250528T123045Z
LAST-MODIFIED:20251117T165944Z
UID:15698-1763632800-1763638200@www.mwraadvisoryboard.com
SUMMARY:November 2025 Advisory Board meeting
DESCRIPTION:Registration via Zoom is required here. \nRegister here
URL:https://www.mwraadvisoryboard.com/events/november-2025-advisory-board-meeting/
CATEGORIES:Advisory Board
END:VEVENT
BEGIN:VEVENT
DTSTART;TZID=America/New_York:20251030T100000
DTEND;TZID=America/New_York:20251030T113000
DTSTAMP:20260419T160125
CREATED:20250826T145133Z
LAST-MODIFIED:20251002T170326Z
UID:16024-1761818400-1761823800@www.mwraadvisoryboard.com
SUMMARY:October 2025 Advisory Board meeting
DESCRIPTION:Registration via Zoom is required here. 
URL:https://www.mwraadvisoryboard.com/events/october-2025-advisory-board-meeting/
CATEGORIES:Advisory Board
END:VEVENT
BEGIN:VEVENT
DTSTART;TZID=America/New_York:20250918T100000
DTEND;TZID=America/New_York:20250918T113000
DTSTAMP:20260419T160125
CREATED:20250528T122849Z
LAST-MODIFIED:20250911T173626Z
UID:15696-1758189600-1758195000@www.mwraadvisoryboard.com
SUMMARY:September 2025 Advisory Board meeting
DESCRIPTION:  \nPlease note: registration is required to attend this meeting. \n👉 Register Here
URL:https://www.mwraadvisoryboard.com/events/september-2025-advisory-board-meeting/
CATEGORIES:Advisory Board
END:VEVENT
BEGIN:VEVENT
DTSTART;TZID=America/New_York:20250828T100000
DTEND;TZID=America/New_York:20250828T110000
DTSTAMP:20260419T160125
CREATED:20250826T214635Z
LAST-MODIFIED:20250826T215807Z
UID:16030-1756375200-1756378800@www.mwraadvisoryboard.com
SUMMARY:August 2025 Advisory Board Emergency Meeting
DESCRIPTION:Please note: registration is required to attend this meeting. \nRegister Here
URL:https://www.mwraadvisoryboard.com/events/august-2025-advisory-board-emergency-meeting/
CATEGORIES:Advisory Board
END:VEVENT
BEGIN:VEVENT
DTSTART;TZID=America/New_York:20250716T100000
DTEND;TZID=America/New_York:20250716T103000
DTSTAMP:20260419T160125
CREATED:20250709T193236Z
LAST-MODIFIED:20250709T200302Z
UID:15952-1752660000-1752661800@www.mwraadvisoryboard.com
SUMMARY:July 2025 Advisory Board Meeting
DESCRIPTION:Please note: registration is required to attend this meeting. \n📅 Register Here
URL:https://www.mwraadvisoryboard.com/events/july-2026-advisory-board-meeting/
LOCATION:Virtual
CATEGORIES:Advisory Board
END:VEVENT
BEGIN:VEVENT
DTSTART;TZID=America/New_York:20250626T100000
DTEND;TZID=America/New_York:20250626T113000
DTSTAMP:20260419T160125
CREATED:20240620T185445Z
LAST-MODIFIED:20250523T160137Z
UID:13930-1750932000-1750937400@www.mwraadvisoryboard.com
SUMMARY:June 2025 Advisory Board meeting
DESCRIPTION:Registration is required via Zoom here.
URL:https://www.mwraadvisoryboard.com/events/june-2025-advisory-board-meeting/
CATEGORIES:Advisory Board
END:VEVENT
BEGIN:VEVENT
DTSTART;TZID=America/New_York:20250515T100000
DTEND;TZID=America/New_York:20250515T113000
DTSTAMP:20260419T160125
CREATED:20240620T185400Z
LAST-MODIFIED:20250516T164301Z
UID:13928-1747303200-1747308600@www.mwraadvisoryboard.com
SUMMARY:I/I Workshop and May 2025 Advisory Board meeting
DESCRIPTION:Please note: Registration is required for this event via Zoom here. \n 
URL:https://www.mwraadvisoryboard.com/events/may-2025-advisory-board-meeting/
CATEGORIES:Advisory Board
END:VEVENT
BEGIN:VEVENT
DTSTART;TZID=America/New_York:20250417T100000
DTEND;TZID=America/New_York:20250417T113000
DTSTAMP:20260419T160125
CREATED:20240620T185311Z
LAST-MODIFIED:20250418T151434Z
UID:13926-1744884000-1744889400@www.mwraadvisoryboard.com
SUMMARY:April 2025 Advisory Board meeting
DESCRIPTION:  \nAt its April 17\, 2025 meeting\, Advisory Board staff presented a preview of its Proposed Comments & Recommendations on the MWRA’s Proposed FY26 Capital Improvement Program and Current Expense Budget.
URL:https://www.mwraadvisoryboard.com/events/april-2025-advisory-board-meeting/
CATEGORIES:Advisory Board
END:VEVENT
BEGIN:VEVENT
DTSTART;TZID=America/New_York:20250320T100000
DTEND;TZID=America/New_York:20250320T113000
DTSTAMP:20260419T160125
CREATED:20240620T185224Z
LAST-MODIFIED:20250324T163317Z
UID:13924-1742464800-1742470200@www.mwraadvisoryboard.com
SUMMARY:March 2025 Advisory Board meeting
DESCRIPTION:Please note: registration is required for this event. Use this zoom link to register.
URL:https://www.mwraadvisoryboard.com/events/march-2025-advisory-board-meeting/
CATEGORIES:Advisory Board
END:VEVENT
BEGIN:VEVENT
DTSTART;TZID=America/New_York:20250213T100000
DTEND;TZID=America/New_York:20250213T113000
DTSTAMP:20260419T160125
CREATED:20240620T185128Z
LAST-MODIFIED:20250213T124402Z
UID:13922-1739440800-1739446200@www.mwraadvisoryboard.com
SUMMARY:February 2025 Advisory Board meeting
DESCRIPTION:Please note: Registration is required for this event. Use the Zoom link below to register. \nhttps://us06web.zoom.us/meeting/register/AnCdki47QQe68cL0seXjWg
URL:https://www.mwraadvisoryboard.com/events/february-2025-advisory-board-meeting/
CATEGORIES:Advisory Board
END:VEVENT
BEGIN:VEVENT
DTSTART;TZID=America/New_York:20250116T100000
DTEND;TZID=America/New_York:20250116T113000
DTSTAMP:20260419T160125
CREATED:20240620T184943Z
LAST-MODIFIED:20250110T141802Z
UID:13919-1737021600-1737027000@www.mwraadvisoryboard.com
SUMMARY:January 2025 Advisory Board meeting
DESCRIPTION:
URL:https://www.mwraadvisoryboard.com/events/january-2025-advisory-board-meeting/
CATEGORIES:Advisory Board
END:VEVENT
BEGIN:VEVENT
DTSTART;TZID=America/New_York:20241121T100000
DTEND;TZID=America/New_York:20241121T113000
DTSTAMP:20260419T160125
CREATED:20240620T184851Z
LAST-MODIFIED:20241101T151110Z
UID:13917-1732183200-1732188600@www.mwraadvisoryboard.com
SUMMARY:November 2024 Advisory Board meeting
DESCRIPTION:Please note: Registration is required for this meeting. Please register via Zoom here.
URL:https://www.mwraadvisoryboard.com/events/november-advisory-board-meeting/
CATEGORIES:Advisory Board
END:VEVENT
BEGIN:VEVENT
DTSTART;TZID=America/New_York:20241024T100000
DTEND;TZID=America/New_York:20241024T100000
DTSTAMP:20260419T160125
CREATED:20240829T185422Z
LAST-MODIFIED:20241028T161223Z
UID:14173-1729764000-1729764000@www.mwraadvisoryboard.com
SUMMARY:October 2024 Advisory Board meeting | TCH: Lead & Copper Rule from Inventory to Implementation
DESCRIPTION:Please note: Registration is required for this event. This virtual event will be held on Zoom \nLead and Copper Rule Revisions: From Inventory to Implementation\nThe MWRA and the MWRA Advisory Board invite water professionals to this essential training session\, designed to help MWRA communities navigate the new Lead and Copper Rule Revisions (LCRR). By the time of this event\, the October 16 deadline to submit service line inventories will have passed\, and communities will be preparing for the next critical milestone: notifying residents with known or potential lead service lines\, a requirement that must be completed within 30 days of October 16. \nThis training will provide a comprehensive overview of the ongoing compliance steps under the LCRR\, including guidance on how to meet the notification deadline and stay on track with other key requirements. We will also provide an update on the anticipated Lead and Copper Rule Improvements (LCRI)—if the new regulations are finalized by the event date\, we’ll review the finalized requirements; if not\, we’ll discuss the anticipated changes. \nIn addition\, MWRA and the Advisory Board will highlight the newly approved Lead Service Line Removal Program (LSLRP)\, a grant/loan initiative designed to help MWRA communities remove lead service lines. Attendees will earn valuable Training Contact Hours (TCHs) needed for license maintenance while receiving the tools and knowledge necessary to ensure compliance and protect public health. \n📄 Read full blog post for more details \nWant to make sure you don’t miss more TCH workshops and other resources for communities in the future? \n📰 Join our newsletter!
URL:https://www.mwraadvisoryboard.com/events/june-2025-advisory-board-meeting-copy/
CATEGORIES:Advisory Board
END:VEVENT
BEGIN:VEVENT
DTSTART;TZID=America/New_York:20240919T100000
DTEND;TZID=America/New_York:20240919T113000
DTSTAMP:20260419T160125
CREATED:20240620T184431Z
LAST-MODIFIED:20240917T172536Z
UID:13915-1726740000-1726745400@www.mwraadvisoryboard.com
SUMMARY:September 2024 Advisory Board-Annual Meeting
DESCRIPTION:Please note: Registration is required for this event. Use the Zoom link below to register. \nhttps://us06web.zoom.us/meeting/register/tZYvfuigqDkrHdIYKQYgmZJ43ib4YBqwXI4r
URL:https://www.mwraadvisoryboard.com/events/september-2024-advisory-board-meeting/
CATEGORIES:Advisory Board
END:VEVENT
BEGIN:VEVENT
DTSTART;TZID=America/New_York:20240627T100000
DTEND;TZID=America/New_York:20240627T120000
DTSTAMP:20260419T160125
CREATED:20230615T173940Z
LAST-MODIFIED:20240626T120701Z
UID:12779-1719482400-1719489600@www.mwraadvisoryboard.com
SUMMARY:June 2024 Advisory Board Meeting
DESCRIPTION:Please note\, registration is required for this meeting: \nhttps://us06web.zoom.us/meeting/register/tZAqdu-hrTwsGN26zV8EZHfMLe05IdICvkdf
URL:https://www.mwraadvisoryboard.com/events/jun2024abmeeting/
CATEGORIES:Advisory Board
END:VEVENT
BEGIN:VEVENT
DTSTART;TZID=America/New_York:20240516T100000
DTEND;TZID=America/New_York:20240516T120000
DTSTAMP:20260419T160125
CREATED:20230615T173423Z
LAST-MODIFIED:20240517T134002Z
UID:12773-1715853600-1715860800@www.mwraadvisoryboard.com
SUMMARY:May 2024 Advisory Board Meeting
DESCRIPTION:Please note: Registration is required for this meeting. \nhttps://us06web.zoom.us/meeting/register/tZApfu-oqTIpHNLh-OxnhNCBul5Z_DtQHxxp \n 
URL:https://www.mwraadvisoryboard.com/events/may2024abmeeting/
CATEGORIES:Advisory Board
END:VEVENT
BEGIN:VEVENT
DTSTART;TZID=America/New_York:20240418T100000
DTEND;TZID=America/New_York:20240418T120000
DTSTAMP:20260419T160125
CREATED:20230615T165242Z
LAST-MODIFIED:20240419T125227Z
UID:12765-1713434400-1713441600@www.mwraadvisoryboard.com
SUMMARY:April 2024 Advisory Board Meeting
DESCRIPTION:You can navigate through the Advisory Board’s full presentations or download the PDF versions below. Scroll down for more meeting materials. \nPlease note: the PDF version of the DCR Rangers Enforcement presentation is too large to upload but can be viewed and downloaded here. \n \n 
URL:https://www.mwraadvisoryboard.com/events/apr2024abmeeting/
CATEGORIES:Advisory Board
END:VEVENT
BEGIN:VEVENT
DTSTART;TZID=America/New_York:20240321T100000
DTEND;TZID=America/New_York:20240321T120000
DTSTAMP:20260419T160125
CREATED:20230615T164644Z
LAST-MODIFIED:20240405T172556Z
UID:12757-1711015200-1711022400@www.mwraadvisoryboard.com
SUMMARY:March 2024 Advisory Board Meeting
DESCRIPTION:Please note – registration is required for this meeting: \nhttps://us06web.zoom.us/meeting/register/tZctcO6pqDgqH9HZ3OxZ0MivmTajS8AKpATc
URL:https://www.mwraadvisoryboard.com/events/mar2024abmeeting/
CATEGORIES:Advisory Board
END:VEVENT
BEGIN:VEVENT
DTSTART;TZID=America/New_York:20240215T100000
DTEND;TZID=America/New_York:20240215T120000
DTSTAMP:20260419T160125
CREATED:20230615T163501Z
LAST-MODIFIED:20240208T175354Z
UID:12750-1707991200-1707998400@www.mwraadvisoryboard.com
SUMMARY:February 2024 Advisory Board Meeting
DESCRIPTION:Please know that registration is required for this meeting. \nhttps://us06web.zoom.us/meeting/register/tZUvcuuppzIuH9yZ7LUk83inpZqXrW5f5pJ5
URL:https://www.mwraadvisoryboard.com/events/feb2024abmeeting/
CATEGORIES:Advisory Board
END:VEVENT
BEGIN:VEVENT
DTSTART;TZID=America/New_York:20240118T100000
DTEND;TZID=America/New_York:20240118T120000
DTSTAMP:20260419T160125
CREATED:20230615T161223Z
LAST-MODIFIED:20240119T131409Z
UID:12742-1705572000-1705579200@www.mwraadvisoryboard.com
SUMMARY:January 2024 Advisory Board Meeting
DESCRIPTION:Please note: registration is required for this meeting \nhttps://us06web.zoom.us/meeting/register/tZEsc-ihqj8vHNW4uikp5KfU20OFXLUJuMuJ
URL:https://www.mwraadvisoryboard.com/events/jan2024abmeeting/
CATEGORIES:Advisory Board
END:VEVENT
BEGIN:VEVENT
DTSTART;TZID=America/New_York:20231116T103000
DTEND;TZID=America/New_York:20231116T123000
DTSTAMP:20260419T160125
CREATED:20230615T160021Z
LAST-MODIFIED:20231114T154952Z
UID:12734-1700130600-1700137800@www.mwraadvisoryboard.com
SUMMARY:November 2023 Advisory Board Meeting
DESCRIPTION:NOTE: START TIME FOR THIS MEETING IS AT 10:30 \nRegister in advance for this meeting:\nhttps://us06web.zoom.us/meeting/register/tZUsf-mupzwsHdxTW9ZFQsiI2z52QMeJXK4J \nAfter registering\, you will receive a confirmation email containing information about joining the meeting.
URL:https://www.mwraadvisoryboard.com/events/nov2023abmeeting/
CATEGORIES:Advisory Board
END:VEVENT
BEGIN:VEVENT
DTSTART;TZID=America/New_York:20230921T100000
DTEND;TZID=America/New_York:20230921T120000
DTSTAMP:20260419T160125
CREATED:20230615T155324Z
LAST-MODIFIED:20230919T162913Z
UID:12727-1695290400-1695297600@www.mwraadvisoryboard.com
SUMMARY:September 2023 Advisory Board Meeting (Hybrid Meeting)
DESCRIPTION:The in-person component of this meeting will be at the Deer Island Wastewater Treatment Plant. Remote meeting details can be found below. \nRegister in advance for this meeting:\nhttps://us06web.zoom.us/meeting/register/tZMtf-iurzwrHNxRy4d8SUa7JyGiZFZHNR7k \nAfter registering\, you will receive a confirmation email containing information about joining the meeting.
URL:https://www.mwraadvisoryboard.com/events/sep2023abmeeting/
LOCATION:Deer Island (Winthrop)\, 190 Tafts Ave\, Winthrop\, MA\, 02152
CATEGORIES:Advisory Board
END:VEVENT
BEGIN:VEVENT
DTSTART;TZID=America/New_York:20230615T100000
DTEND;TZID=America/New_York:20230615T120000
DTSTAMP:20260419T160125
CREATED:20220630T151039Z
LAST-MODIFIED:20230525T145808Z
UID:11934-1686823200-1686830400@www.mwraadvisoryboard.com
SUMMARY:June 2023 Advisory Board Meeting
DESCRIPTION:Jun 15\, 2023 10:00 AM Eastern Time (US and Canada) \nRegister in advance for this meeting:\nhttps://us06web.zoom.us/meeting/register/tZ0ucuyhrzwqGNOTxAnsuoCJVDCjwEAV2EnB \nAfter registering\, you will receive a confirmation email containing information about joining the meeting.
URL:https://www.mwraadvisoryboard.com/events/jun2023abmeeting/
CATEGORIES:Advisory Board
END:VEVENT
BEGIN:VEVENT
DTSTART;TZID=America/New_York:20230518T100000
DTEND;TZID=America/New_York:20230518T120000
DTSTAMP:20260419T160125
CREATED:20220630T151039Z
LAST-MODIFIED:20230522T162536Z
UID:11933-1684404000-1684411200@www.mwraadvisoryboard.com
SUMMARY:May 2023 Advisory Board Meeting
DESCRIPTION:May 18\, 2023 10:00 AM Eastern Time (US and Canada) \nRegister in advance for this meeting:\nhttps://us06web.zoom.us/meeting/register/tZAsce6tpzkpG9OV9sN-LP4vEpugm_1sQT3r \nAfter registering\, you will receive a confirmation email containing information about joining the meeting.
URL:https://www.mwraadvisoryboard.com/events/may2023abmeeting/
CATEGORIES:Advisory Board
END:VEVENT
BEGIN:VEVENT
DTSTART;TZID=America/New_York:20230420T100000
DTEND;TZID=America/New_York:20230420T120000
DTSTAMP:20260419T160125
CREATED:20220630T151039Z
LAST-MODIFIED:20230427T160659Z
UID:11932-1681984800-1681992000@www.mwraadvisoryboard.com
SUMMARY:April 2023 Advisory Board Meeting
DESCRIPTION:  \nRegister in advance for this meeting:\nhttps://us06web.zoom.us/meeting/register/tZAqf-qtrDkjH9dqPg9MjiNmoXSoNz8B13uF \nAfter registering\, you will receive a confirmation email containing information about joining the meeting.
URL:https://www.mwraadvisoryboard.com/events/apr2023abmeeting/
CATEGORIES:Advisory Board
ATTACH;FMTTYPE=image/jpg:https://www.mwraadvisoryboard.com/wp-content/uploads/2023/04/combined-notice-pdf-image.jpg
END:VEVENT
BEGIN:VEVENT
DTSTART;TZID=America/New_York:20230316T100000
DTEND;TZID=America/New_York:20230316T120000
DTSTAMP:20260419T160125
CREATED:20220630T151039Z
LAST-MODIFIED:20230216T001845Z
UID:11931-1678960800-1678968000@www.mwraadvisoryboard.com
SUMMARY:March 2023 Advisory Board Meeting
DESCRIPTION:Mar 16\, 2023 10:00 AM Eastern Time (US and Canada) \nRegister in advance for this meeting:\nhttps://us06web.zoom.us/meeting/register/tZclcOGvqjwuG9BBFRTiyPvxmqDYOg2dHpOr \n  \nAfter registering\, you will receive a confirmation email containing information about joining the meeting.
URL:https://www.mwraadvisoryboard.com/events/mar2023abmeeting/
CATEGORIES:Advisory Board
END:VEVENT
END:VCALENDAR