BEGIN:VCALENDAR
VERSION:2.0
PRODID:-//MWRA - ECPv6.15.11//NONSGML v1.0//EN
CALSCALE:GREGORIAN
METHOD:PUBLISH
X-ORIGINAL-URL:https://www.mwraadvisoryboard.com
X-WR-CALDESC:Events for MWRA
REFRESH-INTERVAL;VALUE=DURATION:PT1H
X-Robots-Tag:noindex
X-PUBLISHED-TTL:PT1H
BEGIN:VTIMEZONE
TZID:America/New_York
BEGIN:DAYLIGHT
TZOFFSETFROM:-0500
TZOFFSETTO:-0400
TZNAME:EDT
DTSTART:20170312T070000
END:DAYLIGHT
BEGIN:STANDARD
TZOFFSETFROM:-0400
TZOFFSETTO:-0500
TZNAME:EST
DTSTART:20171105T060000
END:STANDARD
BEGIN:DAYLIGHT
TZOFFSETFROM:-0500
TZOFFSETTO:-0400
TZNAME:EDT
DTSTART:20180311T070000
END:DAYLIGHT
BEGIN:STANDARD
TZOFFSETFROM:-0400
TZOFFSETTO:-0500
TZNAME:EST
DTSTART:20181104T060000
END:STANDARD
BEGIN:DAYLIGHT
TZOFFSETFROM:-0500
TZOFFSETTO:-0400
TZNAME:EDT
DTSTART:20190310T070000
END:DAYLIGHT
BEGIN:STANDARD
TZOFFSETFROM:-0400
TZOFFSETTO:-0500
TZNAME:EST
DTSTART:20191103T060000
END:STANDARD
BEGIN:DAYLIGHT
TZOFFSETFROM:-0500
TZOFFSETTO:-0400
TZNAME:EDT
DTSTART:20200308T070000
END:DAYLIGHT
BEGIN:STANDARD
TZOFFSETFROM:-0400
TZOFFSETTO:-0500
TZNAME:EST
DTSTART:20201101T060000
END:STANDARD
BEGIN:DAYLIGHT
TZOFFSETFROM:-0500
TZOFFSETTO:-0400
TZNAME:EDT
DTSTART:20210314T070000
END:DAYLIGHT
BEGIN:STANDARD
TZOFFSETFROM:-0400
TZOFFSETTO:-0500
TZNAME:EST
DTSTART:20211107T060000
END:STANDARD
BEGIN:DAYLIGHT
TZOFFSETFROM:-0500
TZOFFSETTO:-0400
TZNAME:EDT
DTSTART:20220313T070000
END:DAYLIGHT
BEGIN:STANDARD
TZOFFSETFROM:-0400
TZOFFSETTO:-0500
TZNAME:EST
DTSTART:20221106T060000
END:STANDARD
END:VTIMEZONE
BEGIN:VTIMEZONE
TZID:UTC
BEGIN:STANDARD
TZOFFSETFROM:+0000
TZOFFSETTO:+0000
TZNAME:UTC
DTSTART:20150101T000000
END:STANDARD
END:VTIMEZONE
BEGIN:VTIMEZONE
TZID:America/Halifax
BEGIN:DAYLIGHT
TZOFFSETFROM:-0400
TZOFFSETTO:-0300
TZNAME:ADT
DTSTART:20140309T060000
END:DAYLIGHT
BEGIN:STANDARD
TZOFFSETFROM:-0300
TZOFFSETTO:-0400
TZNAME:AST
DTSTART:20141102T050000
END:STANDARD
BEGIN:DAYLIGHT
TZOFFSETFROM:-0400
TZOFFSETTO:-0300
TZNAME:ADT
DTSTART:20150308T060000
END:DAYLIGHT
BEGIN:STANDARD
TZOFFSETFROM:-0300
TZOFFSETTO:-0400
TZNAME:AST
DTSTART:20151101T050000
END:STANDARD
BEGIN:DAYLIGHT
TZOFFSETFROM:-0400
TZOFFSETTO:-0300
TZNAME:ADT
DTSTART:20160313T060000
END:DAYLIGHT
BEGIN:STANDARD
TZOFFSETFROM:-0300
TZOFFSETTO:-0400
TZNAME:AST
DTSTART:20161106T050000
END:STANDARD
END:VTIMEZONE
BEGIN:VEVENT
DTSTART;TZID=America/New_York:20211118T100000
DTEND;TZID=America/New_York:20211118T113000
DTSTAMP:20260419T224114
CREATED:20210729T143505Z
LAST-MODIFIED:20211112T193700Z
UID:10868-1637229600-1637235000@www.mwraadvisoryboard.com
SUMMARY:November 2021 Advisory Board Meeting
DESCRIPTION:MWRA Advisory Board is inviting you to a scheduled Zoom meeting. \nTopic: November 2021 Advisory Board Meeting\nTime: Nov 18\, 2021 10:00 AM Eastern Time (US and Canada) \nJoin Zoom Meeting\nhttps://us06web.zoom.us/j/89856543775?pwd=bDJMc3VsUDJlMWhTTjlKKzBRMGgvdz09 \nMeeting ID: 898 5654 3775\nPasscode: 892313\nOne tap mobile\n+16465588656\,\,89856543775#\,\,\,\,*892313# US (New York)\n+13017158592\,\,89856543775#\,\,\,\,*892313# US (Washington DC) \nDial by your location\n+1 646 558 8656 US (New York)\n+1 301 715 8592 US (Washington DC)\n+1 312 626 6799 US (Chicago)\n+1 720 707 2699 US (Denver)\n+1 253 215 8782 US (Tacoma)\n+1 346 248 7799 US (Houston)\nMeeting ID: 898 5654 3775\nPasscode: 892313\nFind your local number: https://us06web.zoom.us/u/kbuc15ICb4
URL:https://www.mwraadvisoryboard.com/events/nov2021abmeeting/
CATEGORIES:Advisory Board
END:VEVENT
BEGIN:VEVENT
DTSTART;TZID=America/New_York:20210916T100000
DTEND;TZID=America/New_York:20210916T113000
DTSTAMP:20260419T224114
CREATED:20210729T143301Z
LAST-MODIFIED:20211116T192325Z
UID:10867-1631786400-1631791800@www.mwraadvisoryboard.com
SUMMARY:September 2021 Advisory Board Meeting
DESCRIPTION:Meeting Packet \nMWRA Presentation \nAdvisory Board Presentation \nWAC Presentation \nWSCAC Presentation \n  \n  \nTopic: September 2021 Advisory Board Meeting\nTime: Sep 16\, 2021 10:00 AM Eastern Time (US and Canada) \nJoin Zoom Meeting\nhttps://us06web.zoom.us/j/81355053021?pwd=Z0s0cXY2a01hSjE5aUVPK0M3b0ZLQT09 \nMeeting ID: 813 5505 3021\nPasscode: 814532\nOne tap mobile\n+13017158592\,\,81355053021#\,\,\,\,*814532# US (Washington DC)\n+13126266799\,\,81355053021#\,\,\,\,*814532# US (Chicago) \nDial by your location\n+1 301 715 8592 US (Washington DC)\n+1 312 626 6799 US (Chicago)\n+1 646 558 8656 US (New York)\n+1 253 215 8782 US (Tacoma)\n+1 346 248 7799 US (Houston)\n+1 720 707 2699 US (Denver)\nMeeting ID: 813 5505 3021\nPasscode: 814532\nFind your local number: https://us06web.zoom.us/u/kdCBkHK8ir
URL:https://www.mwraadvisoryboard.com/events/sep2021abmeeting/
CATEGORIES:Advisory Board
END:VEVENT
BEGIN:VEVENT
DTSTART;TZID=America/New_York:20210617T100000
DTEND;TZID=America/New_York:20210617T113000
DTSTAMP:20260419T224114
CREATED:20210604T135710Z
LAST-MODIFIED:20210604T135710Z
UID:10865-1623924000-1623929400@www.mwraadvisoryboard.com
SUMMARY:June 2021 Advisory Board Meeting
DESCRIPTION:Meeting Materials \n  \n\nMeeting Packet\nDraft FY22 Water & Sewer Community Assessments (to be taken up at 6/23 MWRA Board of Director’s Meeting.\nEmail contact for NACWA’s Jason Isakovic \nUCANE’s Jeff Mahoney’s Presentation Slides\nLink to UCANE’s “Good News” Survey\nMWRA’s Matt Horan’s Presentation Slides on Covid Costs\n\nTime: Jun 17\, 2021 10:00 AM Eastern Time (US and Canada) \nJoin Zoom Meeting\nhttps://zoom.us/j/92242190256?pwd=UU5wTVpJNTJ0WDBVWGFka09DSDlkZz09 \n 
URL:https://www.mwraadvisoryboard.com/events/may2021abmeeting-2/
CATEGORIES:Advisory Board
END:VEVENT
BEGIN:VEVENT
DTSTART;TZID=America/New_York:20210415T100000
DTEND;TZID=America/New_York:20210415T113000
DTSTAMP:20260419T224114
CREATED:20210401T142216Z
LAST-MODIFIED:20210401T142216Z
UID:10861-1618480800-1618486200@www.mwraadvisoryboard.com
SUMMARY:April 2021 Advisory Board Meeting
DESCRIPTION:Advisory Board Meeting\nThu\, April 15\, 2021 10:00 AM – 11:30 AM (EDT) \nMeeting Materials: \n\nMeeting Packet\nMWRA Presentation\nAdvisory Board Presentation\n\nYou can join the meeting from your computer\, tablet or smartphone. \nhttps://global.gotomeeting.com/join/179484053  \nYou can also dial in using your phone.\nUnited States: +1 (872) 240-3311\nAccess Code: 179-484-053 \nYou can use the following phone commands during the meeting: \n\n*2 – get the number of attendees currently dialed in via phone\n*3 – turn ‘on-hold’ beeps on or off\n*4 – play menu of features\n*6 – mute/unmute yourself
URL:https://www.mwraadvisoryboard.com/events/april2021ab/
LOCATION:FY 25 Current Expense Budget (CEB) Dashboard
CATEGORIES:Advisory Board
END:VEVENT
BEGIN:VEVENT
DTSTART;TZID=America/New_York:20210318T100000
DTEND;TZID=America/New_York:20210318T100000
DTSTAMP:20260419T224114
CREATED:20210305T150922Z
LAST-MODIFIED:20210305T150922Z
UID:10859-1616061600-1616061600@www.mwraadvisoryboard.com
SUMMARY:March Advisory Board Meeting
DESCRIPTION:Advisory Board Meeting\nThu\, Mar 18\, 2021 10:00 AM – 11:30 AM (EDT) \nMeeting Materials:\n\nMeeting Packet\nMWRA Presentation on Proposed FY22 CEB and CIP\n\n You can join the meeting from your computer\, tablet or smartphone. \n https://global.gotomeeting.com/join/782571477  \nYou can also dial in using your phone.\nUnited States: +1 (224) 501-3412 \nAccess Code: 782-571-477 \nNew to GoToMeeting? Get the app now and be ready when your first meeting starts: https://global.gotomeeting.com/install/782571477
URL:https://www.mwraadvisoryboard.com/events/march-advisory-board-meeting/
CATEGORIES:Advisory Board
END:VEVENT
BEGIN:VEVENT
DTSTART;TZID=America/New_York:20200618T100000
DTEND;TZID=America/New_York:20200618T113000
DTSTAMP:20260419T224114
CREATED:20190718T140426Z
LAST-MODIFIED:20190718T140426Z
UID:10816-1592474400-1592479800@www.mwraadvisoryboard.com
SUMMARY:Advisory Board (Online Remote Meeting)
DESCRIPTION:Please join my meeting from your computer\, tablet or smartphone. \nhttps://global.gotomeeting.com/join/112658365You can also dial in using your phone. \nUnited States: +1 (646) 749-3112Access Code: 112-658-365New to GoToMeeting? Get the app now and be ready when your first meeting starts:\nhttps://global.gotomeeting.com/install/112658365\n\n\nJune Advisory Board Packet
URL:https://www.mwraadvisoryboard.com/events/advisory-board-location-tbd/
CATEGORIES:Advisory Board
END:VEVENT
BEGIN:VEVENT
DTSTART;TZID=America/New_York:20200504T100000
DTEND;TZID=America/New_York:20200504T120000
DTSTAMP:20260419T224114
CREATED:20190718T140241Z
LAST-MODIFIED:20190718T140241Z
UID:10815-1588586400-1588593600@www.mwraadvisoryboard.com
SUMMARY:Advisory Board (Online Remote Meeting)
DESCRIPTION:Advisory Board Meeting\nMon\, May 4\, 2020 10:00 AM  \nPlease join the meeting from your computer\, tablet or smartphone. \nhttps://global.gotomeeting.com/join/295585797  \nYou can also dial in using your phone. \nUnited States: +1 (646) 749-3122 \nAccess Code: 295-585-797 \nNew to GoToMeeting? Get the app now and be ready when your first meeting starts:\nhttps://global.gotomeeting.com/install/295585797 \nMay Advisory Board Packet
URL:https://www.mwraadvisoryboard.com/events/advisory-board-canton-6/
LOCATION:FY 25 Current Expense Budget (CEB) Dashboard
CATEGORIES:Advisory Board
END:VEVENT
BEGIN:VEVENT
DTSTART;TZID=America/New_York:20200416T113000
DTEND;TZID=America/New_York:20200416T140000
DTSTAMP:20260419T224114
CREATED:20190718T140102Z
LAST-MODIFIED:20190718T140102Z
UID:10814-1587036600-1587045600@www.mwraadvisoryboard.com
SUMMARY:Advisory Board Meeting (Cancelled)
DESCRIPTION:Per the Advisory Board Chairman\, this meeting has been cancelled.
URL:https://www.mwraadvisoryboard.com/events/advisory-board-boston-4/
LOCATION:Navigating the Shifting Landscape of Lead and Copper Regulations
CATEGORIES:Advisory Board
END:VEVENT
BEGIN:VEVENT
DTSTART;TZID=America/New_York:20200319T113000
DTEND;TZID=America/New_York:20200319T140000
DTSTAMP:20260419T224114
CREATED:20190718T135946Z
LAST-MODIFIED:20190718T135946Z
UID:10813-1584617400-1584626400@www.mwraadvisoryboard.com
SUMMARY:Advisory Board Meeting Cancelled | Remote Public Hearing
DESCRIPTION:*UPDATE*\nThe March 19th Advisory Board meeting has been cancelled\, and the Public Hearing can be joined remotely. Please see the directions for accessing the remote Public Hearing\, as well as how to submit comments\, on this page. \nMarch Public Meeting Notice and Draft Agenda
URL:https://www.mwraadvisoryboard.com/events/advisory-board-lexington-4/
LOCATION:FY 25 Current Expense Budget (CEB) Dashboard
CATEGORIES:Advisory Board
END:VEVENT
BEGIN:VEVENT
DTSTART;TZID=America/New_York:20200220T113000
DTEND;TZID=America/New_York:20200220T140000
DTSTAMP:20260419T224114
CREATED:20190718T135615Z
LAST-MODIFIED:20190718T135615Z
UID:10812-1582198200-1582207200@www.mwraadvisoryboard.com
SUMMARY:Advisory Board (Needham)
DESCRIPTION:February Meeting Packet \nDCR Presentation
URL:https://www.mwraadvisoryboard.com/events/advisory-board-needham/
CATEGORIES:Advisory Board
END:VEVENT
BEGIN:VEVENT
DTSTART;TZID=America/New_York:20200116T113000
DTEND;TZID=America/New_York:20200116T140000
DTSTAMP:20260419T224114
CREATED:20190718T135323Z
LAST-MODIFIED:20190718T135323Z
UID:10811-1579174200-1579183200@www.mwraadvisoryboard.com
SUMMARY:Advisory Board (Canton)
DESCRIPTION:January Meeting Packet
URL:https://www.mwraadvisoryboard.com/events/advisory-board-canton-5/
CATEGORIES:Advisory Board
END:VEVENT
BEGIN:VEVENT
DTSTART;TZID=America/New_York:20191121T113000
DTEND;TZID=America/New_York:20191121T140000
DTSTAMP:20260419T224114
CREATED:20190718T134949Z
LAST-MODIFIED:20190718T134949Z
UID:10810-1574335800-1574344800@www.mwraadvisoryboard.com
SUMMARY:Advisory Board (Wellesley)
DESCRIPTION:November Meeting Packet \nDRAFT Water and Sewer Retail Rate Survey for 2019
URL:https://www.mwraadvisoryboard.com/events/advisory-board-wellesley-november/
CATEGORIES:Advisory Board
END:VEVENT
BEGIN:VEVENT
DTSTART;TZID=America/New_York:20190919T113000
DTEND;TZID=America/New_York:20190919T133000
DTSTAMP:20260419T224114
CREATED:20190522T183830Z
LAST-MODIFIED:20190522T183830Z
UID:10809-1568892600-1568899800@www.mwraadvisoryboard.com
SUMMARY:Advisory Board Meeting
DESCRIPTION:Joint meeting of the Advisory Board\, WSCAC\, and WAC. \nSeptember Packet
URL:https://www.mwraadvisoryboard.com/events/advisory-board-meeting/
LOCATION:12-45-Stoughton
CATEGORIES:Advisory Board
END:VEVENT
BEGIN:VEVENT
DTSTART;TZID=America/New_York:20190620T113000
DTEND;TZID=America/New_York:20190620T140000
DTSTAMP:20260419T224114
CREATED:20180612T114328Z
LAST-MODIFIED:20180612T114328Z
UID:10790-1561030200-1561039200@www.mwraadvisoryboard.com
SUMMARY:Advisory Board Meeting (Needham)
DESCRIPTION:
URL:https://www.mwraadvisoryboard.com/events/advisory-board-9/
CATEGORIES:Advisory Board
END:VEVENT
BEGIN:VEVENT
DTSTART;TZID=America/New_York:20190321T113000
DTEND;TZID=America/New_York:20190321T140000
DTSTAMP:20260419T224114
CREATED:20180612T114150Z
LAST-MODIFIED:20180612T114150Z
UID:10787-1553167800-1553176800@www.mwraadvisoryboard.com
SUMMARY:Advisory Board (Lexington)
DESCRIPTION:March Meeting Packet
URL:https://www.mwraadvisoryboard.com/events/advisory-board-6/
LOCATION:12-45-Stoughton
CATEGORIES:Advisory Board
END:VEVENT
BEGIN:VEVENT
DTSTART;TZID=America/New_York:20180920T113000
DTEND;TZID=America/New_York:20180920T140000
DTSTAMP:20260419T224114
CREATED:20180612T113902Z
LAST-MODIFIED:20180612T113902Z
UID:10783-1537443000-1537452000@www.mwraadvisoryboard.com
SUMMARY:Advisory Board (Lexington)
DESCRIPTION:September Meeting Packet
URL:https://www.mwraadvisoryboard.com/events/advisory-board-2/
LOCATION:12-45-Stoughton
CATEGORIES:Advisory Board
END:VEVENT
BEGIN:VEVENT
DTSTART;TZID=UTC:20160915T113000
DTEND;TZID=UTC:20160915T140000
DTSTAMP:20260419T224114
CREATED:20160831T031033Z
LAST-MODIFIED:20160831T031033Z
UID:10698-1473939000-1473948000@www.mwraadvisoryboard.com
SUMMARY:AB Meeting - Lexington
DESCRIPTION:
URL:https://www.mwraadvisoryboard.com/events/ab-meeting/
LOCATION:12-45-Stoughton
CATEGORIES:Advisory Board
END:VEVENT
BEGIN:VEVENT
DTSTART;TZID=America/Halifax:20150803T080000
DTEND;TZID=America/Halifax:20150803T170000
DTSTAMP:20260419T224114
CREATED:20160902T131023Z
LAST-MODIFIED:20160902T131023Z
UID:10727-1438588800-1438621200@www.mwraadvisoryboard.com
SUMMARY:AB Meeting
DESCRIPTION:
URL:https://www.mwraadvisoryboard.com/events/ab-meeting-2/
CATEGORIES:Advisory Board
END:VEVENT
END:VCALENDAR