BEGIN:VCALENDAR
VERSION:2.0
PRODID:-//MWRA - ECPv6.15.11//NONSGML v1.0//EN
CALSCALE:GREGORIAN
METHOD:PUBLISH
X-WR-CALNAME:MWRA
X-ORIGINAL-URL:https://www.mwraadvisoryboard.com
X-WR-CALDESC:Events for MWRA
REFRESH-INTERVAL;VALUE=DURATION:PT1H
X-Robots-Tag:noindex
X-PUBLISHED-TTL:PT1H
BEGIN:VTIMEZONE
TZID:America/New_York
BEGIN:DAYLIGHT
TZOFFSETFROM:-0500
TZOFFSETTO:-0400
TZNAME:EDT
DTSTART:20170312T070000
END:DAYLIGHT
BEGIN:STANDARD
TZOFFSETFROM:-0400
TZOFFSETTO:-0500
TZNAME:EST
DTSTART:20171105T060000
END:STANDARD
BEGIN:DAYLIGHT
TZOFFSETFROM:-0500
TZOFFSETTO:-0400
TZNAME:EDT
DTSTART:20180311T070000
END:DAYLIGHT
BEGIN:STANDARD
TZOFFSETFROM:-0400
TZOFFSETTO:-0500
TZNAME:EST
DTSTART:20181104T060000
END:STANDARD
BEGIN:DAYLIGHT
TZOFFSETFROM:-0500
TZOFFSETTO:-0400
TZNAME:EDT
DTSTART:20190310T070000
END:DAYLIGHT
BEGIN:STANDARD
TZOFFSETFROM:-0400
TZOFFSETTO:-0500
TZNAME:EST
DTSTART:20191103T060000
END:STANDARD
BEGIN:DAYLIGHT
TZOFFSETFROM:-0500
TZOFFSETTO:-0400
TZNAME:EDT
DTSTART:20200308T070000
END:DAYLIGHT
BEGIN:STANDARD
TZOFFSETFROM:-0400
TZOFFSETTO:-0500
TZNAME:EST
DTSTART:20201101T060000
END:STANDARD
BEGIN:DAYLIGHT
TZOFFSETFROM:-0500
TZOFFSETTO:-0400
TZNAME:EDT
DTSTART:20210314T070000
END:DAYLIGHT
BEGIN:STANDARD
TZOFFSETFROM:-0400
TZOFFSETTO:-0500
TZNAME:EST
DTSTART:20211107T060000
END:STANDARD
END:VTIMEZONE
BEGIN:VTIMEZONE
TZID:UTC
BEGIN:STANDARD
TZOFFSETFROM:+0000
TZOFFSETTO:+0000
TZNAME:UTC
DTSTART:20150101T000000
END:STANDARD
END:VTIMEZONE
BEGIN:VTIMEZONE
TZID:America/Halifax
BEGIN:DAYLIGHT
TZOFFSETFROM:-0400
TZOFFSETTO:-0300
TZNAME:ADT
DTSTART:20140309T060000
END:DAYLIGHT
BEGIN:STANDARD
TZOFFSETFROM:-0300
TZOFFSETTO:-0400
TZNAME:AST
DTSTART:20141102T050000
END:STANDARD
BEGIN:DAYLIGHT
TZOFFSETFROM:-0400
TZOFFSETTO:-0300
TZNAME:ADT
DTSTART:20150308T060000
END:DAYLIGHT
BEGIN:STANDARD
TZOFFSETFROM:-0300
TZOFFSETTO:-0400
TZNAME:AST
DTSTART:20151101T050000
END:STANDARD
BEGIN:DAYLIGHT
TZOFFSETFROM:-0400
TZOFFSETTO:-0300
TZNAME:ADT
DTSTART:20160313T060000
END:DAYLIGHT
BEGIN:STANDARD
TZOFFSETFROM:-0300
TZOFFSETTO:-0400
TZNAME:AST
DTSTART:20161106T050000
END:STANDARD
END:VTIMEZONE
BEGIN:VEVENT
DTSTART;TZID=America/New_York:20200116T113000
DTEND;TZID=America/New_York:20200116T140000
DTSTAMP:20260420T003113
CREATED:20190718T135323Z
LAST-MODIFIED:20190718T135323Z
UID:10811-1579174200-1579183200@www.mwraadvisoryboard.com
SUMMARY:Advisory Board (Canton)
DESCRIPTION:January Meeting Packet
URL:https://www.mwraadvisoryboard.com/events/advisory-board-canton-5/
CATEGORIES:Advisory Board
END:VEVENT
BEGIN:VEVENT
DTSTART;TZID=America/New_York:20191121T113000
DTEND;TZID=America/New_York:20191121T140000
DTSTAMP:20260420T003113
CREATED:20190718T134949Z
LAST-MODIFIED:20190718T134949Z
UID:10810-1574335800-1574344800@www.mwraadvisoryboard.com
SUMMARY:Advisory Board (Wellesley)
DESCRIPTION:November Meeting Packet \nDRAFT Water and Sewer Retail Rate Survey for 2019
URL:https://www.mwraadvisoryboard.com/events/advisory-board-wellesley-november/
CATEGORIES:Advisory Board
END:VEVENT
BEGIN:VEVENT
DTSTART;TZID=America/New_York:20190919T113000
DTEND;TZID=America/New_York:20190919T133000
DTSTAMP:20260420T003113
CREATED:20190522T183830Z
LAST-MODIFIED:20190522T183830Z
UID:10809-1568892600-1568899800@www.mwraadvisoryboard.com
SUMMARY:Advisory Board Meeting
DESCRIPTION:Joint meeting of the Advisory Board\, WSCAC\, and WAC. \nSeptember Packet
URL:https://www.mwraadvisoryboard.com/events/advisory-board-meeting/
LOCATION:12-45-Stoughton
CATEGORIES:Advisory Board
END:VEVENT
BEGIN:VEVENT
DTSTART;TZID=America/New_York:20190620T113000
DTEND;TZID=America/New_York:20190620T140000
DTSTAMP:20260420T003113
CREATED:20180612T114328Z
LAST-MODIFIED:20180612T114328Z
UID:10790-1561030200-1561039200@www.mwraadvisoryboard.com
SUMMARY:Advisory Board Meeting (Needham)
DESCRIPTION:
URL:https://www.mwraadvisoryboard.com/events/advisory-board-9/
CATEGORIES:Advisory Board
END:VEVENT
BEGIN:VEVENT
DTSTART;TZID=America/New_York:20190321T113000
DTEND;TZID=America/New_York:20190321T140000
DTSTAMP:20260420T003113
CREATED:20180612T114150Z
LAST-MODIFIED:20180612T114150Z
UID:10787-1553167800-1553176800@www.mwraadvisoryboard.com
SUMMARY:Advisory Board (Lexington)
DESCRIPTION:March Meeting Packet
URL:https://www.mwraadvisoryboard.com/events/advisory-board-6/
LOCATION:12-45-Stoughton
CATEGORIES:Advisory Board
END:VEVENT
BEGIN:VEVENT
DTSTART;TZID=America/New_York:20180920T113000
DTEND;TZID=America/New_York:20180920T140000
DTSTAMP:20260420T003113
CREATED:20180612T113902Z
LAST-MODIFIED:20180612T113902Z
UID:10783-1537443000-1537452000@www.mwraadvisoryboard.com
SUMMARY:Advisory Board (Lexington)
DESCRIPTION:September Meeting Packet
URL:https://www.mwraadvisoryboard.com/events/advisory-board-2/
LOCATION:12-45-Stoughton
CATEGORIES:Advisory Board
END:VEVENT
BEGIN:VEVENT
DTSTART;TZID=UTC:20160915T113000
DTEND;TZID=UTC:20160915T140000
DTSTAMP:20260420T003113
CREATED:20160831T031033Z
LAST-MODIFIED:20160831T031033Z
UID:10698-1473939000-1473948000@www.mwraadvisoryboard.com
SUMMARY:AB Meeting - Lexington
DESCRIPTION:
URL:https://www.mwraadvisoryboard.com/events/ab-meeting/
LOCATION:12-45-Stoughton
CATEGORIES:Advisory Board
END:VEVENT
BEGIN:VEVENT
DTSTART;TZID=America/Halifax:20150803T080000
DTEND;TZID=America/Halifax:20150803T170000
DTSTAMP:20260420T003113
CREATED:20160902T131023Z
LAST-MODIFIED:20160902T131023Z
UID:10727-1438588800-1438621200@www.mwraadvisoryboard.com
SUMMARY:AB Meeting
DESCRIPTION:
URL:https://www.mwraadvisoryboard.com/events/ab-meeting-2/
CATEGORIES:Advisory Board
END:VEVENT
END:VCALENDAR