BEGIN:VCALENDAR
VERSION:2.0
PRODID:-//MWRA - ECPv6.15.11//NONSGML v1.0//EN
CALSCALE:GREGORIAN
METHOD:PUBLISH
X-ORIGINAL-URL:https://www.mwraadvisoryboard.com
X-WR-CALDESC:Events for MWRA
REFRESH-INTERVAL;VALUE=DURATION:PT1H
X-Robots-Tag:noindex
X-PUBLISHED-TTL:PT1H
BEGIN:VTIMEZONE
TZID:America/New_York
BEGIN:DAYLIGHT
TZOFFSETFROM:-0500
TZOFFSETTO:-0400
TZNAME:EDT
DTSTART:20180311T070000
END:DAYLIGHT
BEGIN:STANDARD
TZOFFSETFROM:-0400
TZOFFSETTO:-0500
TZNAME:EST
DTSTART:20181104T060000
END:STANDARD
BEGIN:DAYLIGHT
TZOFFSETFROM:-0500
TZOFFSETTO:-0400
TZNAME:EDT
DTSTART:20190310T070000
END:DAYLIGHT
BEGIN:STANDARD
TZOFFSETFROM:-0400
TZOFFSETTO:-0500
TZNAME:EST
DTSTART:20191103T060000
END:STANDARD
BEGIN:DAYLIGHT
TZOFFSETFROM:-0500
TZOFFSETTO:-0400
TZNAME:EDT
DTSTART:20200308T070000
END:DAYLIGHT
BEGIN:STANDARD
TZOFFSETFROM:-0400
TZOFFSETTO:-0500
TZNAME:EST
DTSTART:20201101T060000
END:STANDARD
BEGIN:DAYLIGHT
TZOFFSETFROM:-0500
TZOFFSETTO:-0400
TZNAME:EDT
DTSTART:20210314T070000
END:DAYLIGHT
BEGIN:STANDARD
TZOFFSETFROM:-0400
TZOFFSETTO:-0500
TZNAME:EST
DTSTART:20211107T060000
END:STANDARD
BEGIN:DAYLIGHT
TZOFFSETFROM:-0500
TZOFFSETTO:-0400
TZNAME:EDT
DTSTART:20220313T070000
END:DAYLIGHT
BEGIN:STANDARD
TZOFFSETFROM:-0400
TZOFFSETTO:-0500
TZNAME:EST
DTSTART:20221106T060000
END:STANDARD
BEGIN:DAYLIGHT
TZOFFSETFROM:-0500
TZOFFSETTO:-0400
TZNAME:EDT
DTSTART:20230312T070000
END:DAYLIGHT
BEGIN:STANDARD
TZOFFSETFROM:-0400
TZOFFSETTO:-0500
TZNAME:EST
DTSTART:20231105T060000
END:STANDARD
BEGIN:DAYLIGHT
TZOFFSETFROM:-0500
TZOFFSETTO:-0400
TZNAME:EDT
DTSTART:20240310T070000
END:DAYLIGHT
BEGIN:STANDARD
TZOFFSETFROM:-0400
TZOFFSETTO:-0500
TZNAME:EST
DTSTART:20241103T060000
END:STANDARD
BEGIN:DAYLIGHT
TZOFFSETFROM:-0500
TZOFFSETTO:-0400
TZNAME:EDT
DTSTART:20250309T070000
END:DAYLIGHT
BEGIN:STANDARD
TZOFFSETFROM:-0400
TZOFFSETTO:-0500
TZNAME:EST
DTSTART:20251102T060000
END:STANDARD
BEGIN:DAYLIGHT
TZOFFSETFROM:-0500
TZOFFSETTO:-0400
TZNAME:EDT
DTSTART:20260308T070000
END:DAYLIGHT
BEGIN:STANDARD
TZOFFSETFROM:-0400
TZOFFSETTO:-0500
TZNAME:EST
DTSTART:20261101T060000
END:STANDARD
BEGIN:DAYLIGHT
TZOFFSETFROM:-0500
TZOFFSETTO:-0400
TZNAME:EDT
DTSTART:20270314T070000
END:DAYLIGHT
BEGIN:STANDARD
TZOFFSETFROM:-0400
TZOFFSETTO:-0500
TZNAME:EST
DTSTART:20271107T060000
END:STANDARD
END:VTIMEZONE
BEGIN:VEVENT
DTSTART;TZID=America/New_York:20260415T130000
DTEND;TZID=America/New_York:20260415T153000
DTSTAMP:20260419T161016
CREATED:20250528T131018Z
LAST-MODIFIED:20250528T131018Z
UID:15727-1776258000-1776267000@www.mwraadvisoryboard.com
SUMMARY:April 2026 MWRA Board of Directors
DESCRIPTION:Calendar | MWRA
URL:https://www.mwraadvisoryboard.com/events/april-2026-mwra-board-of-directors/
CATEGORIES:MWRA Board of Directors
END:VEVENT
BEGIN:VEVENT
DTSTART;TZID=America/New_York:20260318T100000
DTEND;TZID=America/New_York:20260318T150000
DTSTAMP:20260419T161016
CREATED:20250528T130424Z
LAST-MODIFIED:20250528T130424Z
UID:15725-1773828000-1773846000@www.mwraadvisoryboard.com
SUMMARY:March 2026 MWRA Board of Directors
DESCRIPTION:Calendar | MWRA
URL:https://www.mwraadvisoryboard.com/events/march-2026-mwra-board-of-directors/
CATEGORIES:MWRA Board of Directors
END:VEVENT
BEGIN:VEVENT
DTSTART;TZID=America/New_York:20260204T093000
DTEND;TZID=America/New_York:20260204T123000
DTSTAMP:20260419T161016
CREATED:20260115T141847Z
LAST-MODIFIED:20260115T142815Z
UID:16399-1770197400-1770208200@www.mwraadvisoryboard.com
SUMMARY:MWRA Board of Director's Meeting
DESCRIPTION:visit the MWRA calendar for more information
URL:https://www.mwraadvisoryboard.com/events/mwra-board-of-directors-meeting-7/
CATEGORIES:MWRA Board of Directors
END:VEVENT
BEGIN:VEVENT
DTSTART;TZID=America/New_York:20260204T093000
DTEND;TZID=America/New_York:20260204T123000
DTSTAMP:20260419T161016
CREATED:20250528T130328Z
LAST-MODIFIED:20260115T135135Z
UID:15723-1770197400-1770208200@www.mwraadvisoryboard.com
SUMMARY:February 2026 MWRA Board of Directors
DESCRIPTION:Calendar | MWRA
URL:https://www.mwraadvisoryboard.com/events/february-2026-mwra-board-of-directors/
CATEGORIES:MWRA Board of Directors
END:VEVENT
BEGIN:VEVENT
DTSTART;TZID=America/New_York:20260114T130000
DTEND;TZID=America/New_York:20260114T153000
DTSTAMP:20260419T161016
CREATED:20250528T125727Z
LAST-MODIFIED:20250528T125727Z
UID:15721-1768395600-1768404600@www.mwraadvisoryboard.com
SUMMARY:January 2026 MWRA Board of Directors
DESCRIPTION:Calendar | MWRA
URL:https://www.mwraadvisoryboard.com/events/january-2026-mwra-board-of-directors/
CATEGORIES:MWRA Board of Directors
END:VEVENT
BEGIN:VEVENT
DTSTART;TZID=America/New_York:20251210T100000
DTEND;TZID=America/New_York:20251210T150000
DTSTAMP:20260419T161016
CREATED:20250528T125604Z
LAST-MODIFIED:20250528T125604Z
UID:15719-1765360800-1765378800@www.mwraadvisoryboard.com
SUMMARY:December 2025 MWRA Board of Directors
DESCRIPTION:Calendar | MWRA
URL:https://www.mwraadvisoryboard.com/events/december-2025-mwra-board-of-directors/
CATEGORIES:MWRA Board of Directors
END:VEVENT
BEGIN:VEVENT
DTSTART;TZID=America/New_York:20251119T130000
DTEND;TZID=America/New_York:20251119T153000
DTSTAMP:20260419T161016
CREATED:20250528T125454Z
LAST-MODIFIED:20250528T125454Z
UID:15716-1763557200-1763566200@www.mwraadvisoryboard.com
SUMMARY:November 2025 MWRA Board of Directors
DESCRIPTION:Calendar | MWRA
URL:https://www.mwraadvisoryboard.com/events/november-2025-mwra-board-of-directors/
CATEGORIES:MWRA Board of Directors
END:VEVENT
BEGIN:VEVENT
DTSTART;TZID=America/New_York:20251022T130000
DTEND;TZID=America/New_York:20251022T153000
DTSTAMP:20260419T161016
CREATED:20250528T131107Z
LAST-MODIFIED:20250528T131107Z
UID:15729-1761138000-1761147000@www.mwraadvisoryboard.com
SUMMARY:October 2025 MWRA Board of Directors
DESCRIPTION:Calendar | MWRA
URL:https://www.mwraadvisoryboard.com/events/october-2025-mwra-board-of-directors/
CATEGORIES:MWRA Board of Directors
END:VEVENT
BEGIN:VEVENT
DTSTART;TZID=America/New_York:20250917T100000
DTEND;TZID=America/New_York:20250917T150000
DTSTAMP:20260419T161016
CREATED:20250528T125245Z
LAST-MODIFIED:20250528T125245Z
UID:15714-1758103200-1758121200@www.mwraadvisoryboard.com
SUMMARY:September 2025 MWRA Board of Directors
DESCRIPTION:Calendar | MWRA
URL:https://www.mwraadvisoryboard.com/events/september-2025-mwra-board-of-directors/
LOCATION:Deer Island (Winthrop)\, 190 Tafts Ave\, Winthrop\, MA\, 02152
CATEGORIES:MWRA Board of Directors
END:VEVENT
BEGIN:VEVENT
DTSTART;TZID=America/New_York:20250723T130000
DTEND;TZID=America/New_York:20250723T153000
DTSTAMP:20260419T161016
CREATED:20250528T125135Z
LAST-MODIFIED:20250528T125135Z
UID:15712-1753275600-1753284600@www.mwraadvisoryboard.com
SUMMARY:July 2025 MWRA Board of Directors
DESCRIPTION:Calendar | MWRA
URL:https://www.mwraadvisoryboard.com/events/july-2025-mwra-board-of-directors/
LOCATION:Chelsea\, 2 Griffin Way\, Chelsea\, MA\, 02150\, United States
CATEGORIES:MWRA Board of Directors
END:VEVENT
BEGIN:VEVENT
DTSTART;TZID=America/New_York:20250618T100000
DTEND;TZID=America/New_York:20250618T150000
DTSTAMP:20260419T161016
CREATED:20240620T192153Z
LAST-MODIFIED:20240620T192354Z
UID:13956-1750240800-1750258800@www.mwraadvisoryboard.com
SUMMARY:MWRA Board of Directors and Quarterly Committees meeting
DESCRIPTION:MWRA Online – Board of Directors Meeting Schedule\, Meeting Notices/Agendas and Vote Extracts
URL:https://www.mwraadvisoryboard.com/events/mwra-board-of-directors-and-quarterly-committees-meeting-4/
LOCATION:Deer Island (Winthrop)\, 190 Tafts Ave\, Winthrop\, MA\, 02152
CATEGORIES:MWRA Board of Directors
END:VEVENT
BEGIN:VEVENT
DTSTART;TZID=America/New_York:20250521T130000
DTEND;TZID=America/New_York:20250521T153000
DTSTAMP:20260419T161016
CREATED:20240620T192104Z
LAST-MODIFIED:20240620T192504Z
UID:13954-1747832400-1747841400@www.mwraadvisoryboard.com
SUMMARY:MWRA Board of Directors meeting
DESCRIPTION:MWRA Online – Board of Directors Meeting Schedule\, Meeting Notices/Agendas and Vote Extracts
URL:https://www.mwraadvisoryboard.com/events/mwra-board-of-directors-meeting-6/
LOCATION:Chelsea\, 2 Griffin Way\, Chelsea\, MA\, 02150\, United States
CATEGORIES:MWRA Board of Directors
END:VEVENT
BEGIN:VEVENT
DTSTART;TZID=America/New_York:20250416T130000
DTEND;TZID=America/New_York:20250416T153000
DTSTAMP:20260419T161016
CREATED:20240620T192005Z
LAST-MODIFIED:20240620T192520Z
UID:13952-1744808400-1744817400@www.mwraadvisoryboard.com
SUMMARY:MWRA Board of Directors meeting
DESCRIPTION:MWRA Online – Board of Directors Meeting Schedule\, Meeting Notices/Agendas and Vote Extracts
URL:https://www.mwraadvisoryboard.com/events/mwra-board-of-directors-meeting-5/
LOCATION:Deer Island (Winthrop)\, 190 Tafts Ave\, Winthrop\, MA\, 02152
CATEGORIES:MWRA Board of Directors
END:VEVENT
BEGIN:VEVENT
DTSTART;TZID=America/New_York:20250319T100000
DTEND;TZID=America/New_York:20250319T150000
DTSTAMP:20260419T161016
CREATED:20240620T191915Z
LAST-MODIFIED:20240620T191915Z
UID:13950-1742378400-1742396400@www.mwraadvisoryboard.com
SUMMARY:MWRA Board of Directors and Quarterly Committees meeting
DESCRIPTION:
URL:https://www.mwraadvisoryboard.com/events/mwra-board-of-directors-and-quarterly-committees-meeting-3/
LOCATION:Chelsea\, 2 Griffin Way\, Chelsea\, MA\, 02150\, United States
CATEGORIES:MWRA Board of Directors
END:VEVENT
BEGIN:VEVENT
DTSTART;TZID=America/New_York:20250212T130000
DTEND;TZID=America/New_York:20250212T153000
DTSTAMP:20260419T161016
CREATED:20240620T191807Z
LAST-MODIFIED:20240620T192546Z
UID:13948-1739365200-1739374200@www.mwraadvisoryboard.com
SUMMARY:MWRA Board of Directors meeting
DESCRIPTION:MWRA Online – Board of Directors Meeting Schedule\, Meeting Notices/Agendas and Vote Extracts
URL:https://www.mwraadvisoryboard.com/events/mwra-board-of-directors-meeting-4/
LOCATION:Deer Island (Winthrop)\, 190 Tafts Ave\, Winthrop\, MA\, 02152
CATEGORIES:MWRA Board of Directors
END:VEVENT
BEGIN:VEVENT
DTSTART;TZID=America/New_York:20250115T130000
DTEND;TZID=America/New_York:20250115T153000
DTSTAMP:20260419T161016
CREATED:20240620T191716Z
LAST-MODIFIED:20240620T192619Z
UID:13946-1736946000-1736955000@www.mwraadvisoryboard.com
SUMMARY:MWRA Board of Directors meeting
DESCRIPTION:MWRA Online – Board of Directors Meeting Schedule\, Meeting Notices/Agendas and Vote Extracts
URL:https://www.mwraadvisoryboard.com/events/mwra-board-of-directors-meeting-3/
LOCATION:Chelsea\, 2 Griffin Way\, Chelsea\, MA\, 02150\, United States
CATEGORIES:MWRA Board of Directors
END:VEVENT
BEGIN:VEVENT
DTSTART;TZID=America/New_York:20241211T100000
DTEND;TZID=America/New_York:20241211T150000
DTSTAMP:20260419T161016
CREATED:20240620T191620Z
LAST-MODIFIED:20240620T192447Z
UID:13944-1733911200-1733929200@www.mwraadvisoryboard.com
SUMMARY:MWRA Board of Directors and Quarterly Committees meeting
DESCRIPTION:MWRA Online – Board of Directors Meeting Schedule\, Meeting Notices/Agendas and Vote Extracts
URL:https://www.mwraadvisoryboard.com/events/mwra-board-of-directors-and-quarterly-committees-meeting-2/
LOCATION:Deer Island (Winthrop)\, 190 Tafts Ave\, Winthrop\, MA\, 02152
CATEGORIES:MWRA Board of Directors
END:VEVENT
BEGIN:VEVENT
DTSTART;TZID=America/New_York:20241113T130000
DTEND;TZID=America/New_York:20241113T153000
DTSTAMP:20260419T161016
CREATED:20240620T191509Z
LAST-MODIFIED:20240620T192652Z
UID:13942-1731502800-1731511800@www.mwraadvisoryboard.com
SUMMARY:MWRA Board of Directors meeting
DESCRIPTION:MWRA Online – Board of Directors Meeting Schedule\, Meeting Notices/Agendas and Vote Extracts
URL:https://www.mwraadvisoryboard.com/events/mwra-board-of-directors-meeting-2/
LOCATION:Chelsea\, 2 Griffin Way\, Chelsea\, MA\, 02150\, United States
CATEGORIES:MWRA Board of Directors
END:VEVENT
BEGIN:VEVENT
DTSTART;TZID=America/New_York:20241023T130000
DTEND;TZID=America/New_York:20241023T153000
DTSTAMP:20260419T161016
CREATED:20240911T194157Z
LAST-MODIFIED:20240911T194311Z
UID:14215-1729688400-1729697400@www.mwraadvisoryboard.com
SUMMARY:MWRA Board of Directors meeting
DESCRIPTION:MWRA Online – Board of Directors Meeting Schedule\, Meeting Notices/Agendas and Vote Extracts
URL:https://www.mwraadvisoryboard.com/events/mwra-board-of-directors-meeting-6-copy/
CATEGORIES:MWRA Board of Directors
END:VEVENT
BEGIN:VEVENT
DTSTART;TZID=America/New_York:20240911T100000
DTEND;TZID=America/New_York:20240911T150000
DTSTAMP:20260419T161016
CREATED:20240620T191353Z
LAST-MODIFIED:20240809T140538Z
UID:13940-1726048800-1726066800@www.mwraadvisoryboard.com
SUMMARY:MWRA Board of Directors and Quarterly Committees meeting
DESCRIPTION:MWRA Online – Board of Directors Meeting Schedule\, Meeting Notices/Agendas and Vote Extracts
URL:https://www.mwraadvisoryboard.com/events/mwra-board-of-directors-and-quarterly-committees-meeting/
LOCATION:Chelsea\, 2 Griffin Way\, Chelsea\, MA\, 02150\, United States
CATEGORIES:MWRA Board of Directors
END:VEVENT
BEGIN:VEVENT
DTSTART;TZID=America/New_York:20240724T130000
DTEND;TZID=America/New_York:20240724T153000
DTSTAMP:20260419T161016
CREATED:20240620T190856Z
LAST-MODIFIED:20240620T192810Z
UID:13935-1721826000-1721835000@www.mwraadvisoryboard.com
SUMMARY:MWRA Board of Directors meeting
DESCRIPTION:MWRA Online – Board of Directors Meeting Schedule\, Meeting Notices/Agendas and Vote Extracts
URL:https://www.mwraadvisoryboard.com/events/july-2024-mwra-board-of-directors-meeting/
LOCATION:Chelsea\, 2 Griffin Way\, Chelsea\, MA\, 02150\, United States
CATEGORIES:MWRA Board of Directors
END:VEVENT
BEGIN:VEVENT
DTSTART;TZID=America/New_York:20240626T100000
DTEND;TZID=America/New_York:20240626T150000
DTSTAMP:20260419T161016
CREATED:20240620T193000Z
LAST-MODIFIED:20240620T193000Z
UID:13967-1719396000-1719414000@www.mwraadvisoryboard.com
SUMMARY:MWRA Board of Directors and Quarterly Committees meeting
DESCRIPTION:MWRA Online – Board of Directors Meeting Schedule\, Meeting Notices/Agendas and Vote Extracts
URL:https://www.mwraadvisoryboard.com/events/mwra-board-of-directors-and-quarterly-committees-meeting-5/
CATEGORIES:MWRA Board of Directors
END:VEVENT
BEGIN:VEVENT
DTSTART;VALUE=DATE:20230719
DTEND;VALUE=DATE:20230720
DTSTAMP:20260419T161016
CREATED:20230629T132550Z
LAST-MODIFIED:20240620T171631Z
UID:12811-1689724800-1689811199@www.mwraadvisoryboard.com
SUMMARY:MWRA Board of Directors Meeting
DESCRIPTION:You can find updated meeting information on the MWRA’s website here: https://www.mwra.com/02org/html/bodmtg.htm \nMWRA typically publishes the agenda and meeting materials two days before their meeting.
URL:https://www.mwraadvisoryboard.com/events/mwra-board-of-directors-meeting/
CATEGORIES:MWRA Board of Directors
END:VEVENT
BEGIN:VEVENT
DTSTART;TZID=America/New_York:20200624T100000
DTEND;TZID=America/New_York:20200624T140000
DTSTAMP:20260419T161016
CREATED:20190924T130317Z
LAST-MODIFIED:20190924T130317Z
UID:10839-1592992800-1593007200@www.mwraadvisoryboard.com
SUMMARY:MWRA Board of Directors
DESCRIPTION:
URL:https://www.mwraadvisoryboard.com/events/mwra-board-of-directors-35-2-2-2-2-2-2-2-2-2/
LOCATION:1991-1995
CATEGORIES:MWRA Board of Directors
END:VEVENT
BEGIN:VEVENT
DTSTART;TZID=America/New_York:20200527T100000
DTEND;TZID=America/New_York:20200527T140000
DTSTAMP:20260419T161016
CREATED:20190924T130259Z
LAST-MODIFIED:20190924T130259Z
UID:10838-1590573600-1590588000@www.mwraadvisoryboard.com
SUMMARY:MWRA Board of Directors
DESCRIPTION:*Rescheduled from May 20\, 2019
URL:https://www.mwraadvisoryboard.com/events/mwra-board-of-directors-35-2-2-2-2-2-2-2-2/
LOCATION:1991-1995
CATEGORIES:MWRA Board of Directors
END:VEVENT
BEGIN:VEVENT
DTSTART;TZID=America/New_York:20200415T100000
DTEND;TZID=America/New_York:20200415T140000
DTSTAMP:20260419T161016
CREATED:20190924T130231Z
LAST-MODIFIED:20190924T130231Z
UID:10837-1586944800-1586959200@www.mwraadvisoryboard.com
SUMMARY:MWRA Board of Directors (TBD)
DESCRIPTION:
URL:https://www.mwraadvisoryboard.com/events/mwra-board-of-directors-35-2-2-2-2-2-2-2/
LOCATION:FY 25 Current Expense Budget (CEB) Dashboard
CATEGORIES:MWRA Board of Directors
END:VEVENT
BEGIN:VEVENT
DTSTART;TZID=America/New_York:20200318T100000
DTEND;TZID=America/New_York:20200318T140000
DTSTAMP:20260419T161016
CREATED:20190924T130111Z
LAST-MODIFIED:20190924T130111Z
UID:10836-1584525600-1584540000@www.mwraadvisoryboard.com
SUMMARY:MWRA Board of Directors
DESCRIPTION:
URL:https://www.mwraadvisoryboard.com/events/mwra-board-of-directors-35-2-2-2-2-2-2/
LOCATION:1991-1995
CATEGORIES:MWRA Board of Directors
END:VEVENT
BEGIN:VEVENT
DTSTART;TZID=America/New_York:20200219T100000
DTEND;TZID=America/New_York:20200219T140000
DTSTAMP:20260419T161017
CREATED:20190924T130043Z
LAST-MODIFIED:20190924T130043Z
UID:10835-1582106400-1582120800@www.mwraadvisoryboard.com
SUMMARY:MWRA Board of Directors
DESCRIPTION:
URL:https://www.mwraadvisoryboard.com/events/mwra-board-of-directors-35-2-2-2-2-2/
LOCATION:1991-1995
CATEGORIES:MWRA Board of Directors
END:VEVENT
BEGIN:VEVENT
DTSTART;TZID=America/New_York:20200115T100000
DTEND;TZID=America/New_York:20200115T140000
DTSTAMP:20260419T161017
CREATED:20190924T125718Z
LAST-MODIFIED:20190924T125718Z
UID:10834-1579082400-1579096800@www.mwraadvisoryboard.com
SUMMARY:MWRA Board of Directors
DESCRIPTION:
URL:https://www.mwraadvisoryboard.com/events/mwra-board-of-directors-35-2-2-2-2/
LOCATION:1991-1995
CATEGORIES:MWRA Board of Directors
END:VEVENT
BEGIN:VEVENT
DTSTART;TZID=America/New_York:20191211T100000
DTEND;TZID=America/New_York:20191211T140000
DTSTAMP:20260419T161017
CREATED:20190924T125644Z
LAST-MODIFIED:20190924T125644Z
UID:10833-1576058400-1576072800@www.mwraadvisoryboard.com
SUMMARY:MWRA Board of Directors
DESCRIPTION:
URL:https://www.mwraadvisoryboard.com/events/mwra-board-of-directors-35-2-2-2/
LOCATION:1991-1995
CATEGORIES:MWRA Board of Directors
END:VEVENT
END:VCALENDAR