BEGIN:VCALENDAR
VERSION:2.0
PRODID:-//MWRA - ECPv6.15.11//NONSGML v1.0//EN
CALSCALE:GREGORIAN
METHOD:PUBLISH
X-WR-CALNAME:MWRA
X-ORIGINAL-URL:https://www.mwraadvisoryboard.com
X-WR-CALDESC:Events for MWRA
REFRESH-INTERVAL;VALUE=DURATION:PT1H
X-Robots-Tag:noindex
X-PUBLISHED-TTL:PT1H
BEGIN:VTIMEZONE
TZID:America/New_York
BEGIN:DAYLIGHT
TZOFFSETFROM:-0500
TZOFFSETTO:-0400
TZNAME:EDT
DTSTART:20250309T070000
END:DAYLIGHT
BEGIN:STANDARD
TZOFFSETFROM:-0400
TZOFFSETTO:-0500
TZNAME:EST
DTSTART:20251102T060000
END:STANDARD
BEGIN:DAYLIGHT
TZOFFSETFROM:-0500
TZOFFSETTO:-0400
TZNAME:EDT
DTSTART:20260308T070000
END:DAYLIGHT
BEGIN:STANDARD
TZOFFSETFROM:-0400
TZOFFSETTO:-0500
TZNAME:EST
DTSTART:20261101T060000
END:STANDARD
BEGIN:DAYLIGHT
TZOFFSETFROM:-0500
TZOFFSETTO:-0400
TZNAME:EDT
DTSTART:20270314T070000
END:DAYLIGHT
BEGIN:STANDARD
TZOFFSETFROM:-0400
TZOFFSETTO:-0500
TZNAME:EST
DTSTART:20271107T060000
END:STANDARD
END:VTIMEZONE
BEGIN:VEVENT
DTSTART;TZID=America/New_York:20260105T100000
DTEND;TZID=America/New_York:20260105T110000
DTSTAMP:20260419T155615
CREATED:20251222T135051Z
LAST-MODIFIED:20251222T135138Z
UID:16354-1767607200-1767610800@www.mwraadvisoryboard.com
SUMMARY:January 2026 Operations Committee
DESCRIPTION:Registration via Zoom is required. Please use the button below. \nRegister here
URL:https://www.mwraadvisoryboard.com/events/january-2026-operations-committee/
CATEGORIES:Operations Committee
END:VEVENT
BEGIN:VEVENT
DTSTART;TZID=America/New_York:20260108T100000
DTEND;TZID=America/New_York:20260108T113000
DTSTAMP:20260419T155615
CREATED:20250528T121705Z
LAST-MODIFIED:20251222T134826Z
UID:15684-1767866400-1767871800@www.mwraadvisoryboard.com
SUMMARY:January 2026 Executive Committee meeting
DESCRIPTION:Registration via Zoom is required. Please use the button below. \nRegister here
URL:https://www.mwraadvisoryboard.com/events/january-2026-executive-committee-meeting/
CATEGORIES:AB Executive Committee
END:VEVENT
BEGIN:VEVENT
DTSTART;TZID=America/New_York:20260114T130000
DTEND;TZID=America/New_York:20260114T153000
DTSTAMP:20260419T155615
CREATED:20250528T125727Z
LAST-MODIFIED:20250528T125727Z
UID:15721-1768395600-1768404600@www.mwraadvisoryboard.com
SUMMARY:January 2026 MWRA Board of Directors
DESCRIPTION:Calendar | MWRA
URL:https://www.mwraadvisoryboard.com/events/january-2026-mwra-board-of-directors/
CATEGORIES:MWRA Board of Directors
END:VEVENT
BEGIN:VEVENT
DTSTART;TZID=America/New_York:20260115T100000
DTEND;TZID=America/New_York:20260115T113000
DTSTAMP:20260419T155615
CREATED:20250528T123757Z
LAST-MODIFIED:20251222T134942Z
UID:15700-1768471200-1768476600@www.mwraadvisoryboard.com
SUMMARY:January 2026 Advisory Board meeting
DESCRIPTION:Registration via Zoom is required. Please use the button below. \nRegister here
URL:https://www.mwraadvisoryboard.com/events/january-2026-advisory-board-meeting/
CATEGORIES:Advisory Board
END:VEVENT
BEGIN:VEVENT
DTSTART;TZID=America/New_York:20260115T180000
DTEND;TZID=America/New_York:20260115T200000
DTSTAMP:20260419T155615
CREATED:20260115T140934Z
LAST-MODIFIED:20260115T141439Z
UID:16396-1768500000-1768507200@www.mwraadvisoryboard.com
SUMMARY:Public Meeting No.6: Combined Sewer Overflow (CSO) Planning Update for the Charles River and Alewife Brook/Mystic River
DESCRIPTION:The meeting will take place virtually on Zoom: Register here \nFor more background\, please visit the Joint CSO Control Planning website\, and review the last meeting recording.
URL:https://www.mwraadvisoryboard.com/events/public-meeting-no-6-combined-sewer-overflow-cso-planning-update-for-the-charles-river-and-alewife-brook-mystic-river/
END:VEVENT
END:VCALENDAR